BEGIN:VCALENDAR
VERSION:2.0
PRODID:-//Fort Collins Music Teachers Association - ECPv6.15.20//NONSGML v1.0//EN
CALSCALE:GREGORIAN
METHOD:PUBLISH
X-ORIGINAL-URL:https://fcmta.org
X-WR-CALDESC:Events for Fort Collins Music Teachers Association
REFRESH-INTERVAL;VALUE=DURATION:PT1H
X-Robots-Tag:noindex
X-PUBLISHED-TTL:PT1H
BEGIN:VTIMEZONE
TZID:America/Denver
BEGIN:DAYLIGHT
TZOFFSETFROM:-0700
TZOFFSETTO:-0600
TZNAME:MDT
DTSTART:20230312T090000
END:DAYLIGHT
BEGIN:STANDARD
TZOFFSETFROM:-0600
TZOFFSETTO:-0700
TZNAME:MST
DTSTART:20231105T080000
END:STANDARD
BEGIN:DAYLIGHT
TZOFFSETFROM:-0700
TZOFFSETTO:-0600
TZNAME:MDT
DTSTART:20240310T090000
END:DAYLIGHT
BEGIN:STANDARD
TZOFFSETFROM:-0600
TZOFFSETTO:-0700
TZNAME:MST
DTSTART:20241103T080000
END:STANDARD
BEGIN:DAYLIGHT
TZOFFSETFROM:-0700
TZOFFSETTO:-0600
TZNAME:MDT
DTSTART:20250309T090000
END:DAYLIGHT
BEGIN:STANDARD
TZOFFSETFROM:-0600
TZOFFSETTO:-0700
TZNAME:MST
DTSTART:20251102T080000
END:STANDARD
END:VTIMEZONE
BEGIN:VEVENT
DTSTART;TZID=America/Denver:20241109T080000
DTEND;TZID=America/Denver:20241109T170000
DTSTAMP:20260424T093658
CREATED:20240917T041749Z
LAST-MODIFIED:20241008T025429Z
UID:1230-1731139200-1731171600@fcmta.org
SUMMARY:Fall Festival
DESCRIPTION:To register\, please contact your teacher.  For teachers\, please use the Member Portal to access registration forms and instructions.  For questions\, please use the Event Organizer’s contact info in the registration form. \n\nAfter the registration deadline\, Chairs will email participating teachers with the schedule\nTeachers who enter students MUST volunteer in-person\nRegistration Deadline – October 7th\, 11:59PM.\nEntry Fee – $30 per student.  ($45 per student for non-MTNA members)\nIn-person only (if a student has Covid/sickness\, a video backup may be submitted)\nCompetitive – 15 students will be selected for the Honors Recital and Honors Trophy\nAll other students will receive a participation trophy\nJudges –  Amy Lee and Peter Friesen\nAdjudication Guidelines will be emailed to all teachers
URL:https://fcmta.org/event/fall-festival-3/
LOCATION:Front Range Community College\, 4616 S Shields St\, Fort Collins\, CO\, 80526\, United States
CATEGORIES:Recitals,Student Programs
ORGANIZER;CN="Silvana Satinelli":MAILTO:silvanasantinelli@gmail.com
END:VEVENT
END:VCALENDAR