BEGIN:VCALENDAR
VERSION:2.0
PRODID:-//Fort Collins Music Teachers Association - ECPv6.15.20//NONSGML v1.0//EN
CALSCALE:GREGORIAN
METHOD:PUBLISH
X-ORIGINAL-URL:https://fcmta.org
X-WR-CALDESC:Events for Fort Collins Music Teachers Association
REFRESH-INTERVAL;VALUE=DURATION:PT1H
X-Robots-Tag:noindex
X-PUBLISHED-TTL:PT1H
BEGIN:VTIMEZONE
TZID:America/Denver
BEGIN:DAYLIGHT
TZOFFSETFROM:-0700
TZOFFSETTO:-0600
TZNAME:MDT
DTSTART:20220313T090000
END:DAYLIGHT
BEGIN:STANDARD
TZOFFSETFROM:-0600
TZOFFSETTO:-0700
TZNAME:MST
DTSTART:20221106T080000
END:STANDARD
BEGIN:DAYLIGHT
TZOFFSETFROM:-0700
TZOFFSETTO:-0600
TZNAME:MDT
DTSTART:20230312T090000
END:DAYLIGHT
BEGIN:STANDARD
TZOFFSETFROM:-0600
TZOFFSETTO:-0700
TZNAME:MST
DTSTART:20231105T080000
END:STANDARD
BEGIN:DAYLIGHT
TZOFFSETFROM:-0700
TZOFFSETTO:-0600
TZNAME:MDT
DTSTART:20240310T090000
END:DAYLIGHT
BEGIN:STANDARD
TZOFFSETFROM:-0600
TZOFFSETTO:-0700
TZNAME:MST
DTSTART:20241103T080000
END:STANDARD
END:VTIMEZONE
BEGIN:VEVENT
DTSTART;TZID=America/Denver:20231113T100000
DTEND;TZID=America/Denver:20231113T230000
DTSTAMP:20260425T045427
CREATED:20231009T150708Z
LAST-MODIFIED:20231025T162906Z
UID:950-1699869600-1699916400@fcmta.org
SUMMARY:Our Best Teacher Challenges and Tips For Sharing
DESCRIPTION:Bring Your Thoughts to Share with Fellow FCMTA Teachers in a Group Discussion. \n\nWhat motivates your students?\nWhat is and isn’t working?\nHave you updated your policies lately?\nHow do you teach your “I forgot my music” lessons?\nWhat are Asynchronous Lessons?  Are they a solution to missed lessons?\nYour favorite teacher resources\, references\, inspiration\, reading books….\nWhat are you learning and playing for yourself right now?
URL:https://fcmta.org/event/teacher-panel-discussion/
LOCATION:Trinity Lutheran Church\, 301 E Stuart\, Fort Collins\, CO\, 80525\, United States
CATEGORIES:Member Meeting
ORGANIZER;CN="FCMTA":MAILTO:info@fcmta.org
END:VEVENT
END:VCALENDAR