BEGIN:VCALENDAR
VERSION:2.0
PRODID:-//Fort Collins Music Teachers Association - ECPv6.15.20//NONSGML v1.0//EN
CALSCALE:GREGORIAN
METHOD:PUBLISH
X-WR-CALNAME:Fort Collins Music Teachers Association
X-ORIGINAL-URL:https://fcmta.org
X-WR-CALDESC:Events for Fort Collins Music Teachers Association
REFRESH-INTERVAL;VALUE=DURATION:PT1H
X-Robots-Tag:noindex
X-PUBLISHED-TTL:PT1H
BEGIN:VTIMEZONE
TZID:America/Denver
BEGIN:DAYLIGHT
TZOFFSETFROM:-0700
TZOFFSETTO:-0600
TZNAME:MDT
DTSTART:20240310T090000
END:DAYLIGHT
BEGIN:STANDARD
TZOFFSETFROM:-0600
TZOFFSETTO:-0700
TZNAME:MST
DTSTART:20241103T080000
END:STANDARD
BEGIN:DAYLIGHT
TZOFFSETFROM:-0700
TZOFFSETTO:-0600
TZNAME:MDT
DTSTART:20250309T090000
END:DAYLIGHT
BEGIN:STANDARD
TZOFFSETFROM:-0600
TZOFFSETTO:-0700
TZNAME:MST
DTSTART:20251102T080000
END:STANDARD
BEGIN:DAYLIGHT
TZOFFSETFROM:-0700
TZOFFSETTO:-0600
TZNAME:MDT
DTSTART:20260308T090000
END:DAYLIGHT
BEGIN:STANDARD
TZOFFSETFROM:-0600
TZOFFSETTO:-0700
TZNAME:MST
DTSTART:20261101T080000
END:STANDARD
END:VTIMEZONE
BEGIN:VEVENT
DTSTART;TZID=America/Denver:20250805T100000
DTEND;TZID=America/Denver:20250805T120000
DTSTAMP:20260423T233033
CREATED:20250722T031642Z
LAST-MODIFIED:20250722T031642Z
UID:1382-1754388000-1754395200@fcmta.org
SUMMARY:Keith Snell Workshop
DESCRIPTION:FCMTA members\, you and any guests are invited to a workshop by Keith Snell on August 5th 10am-12pm at Trinity Lutheran Church\, 301 East Stuart Street in Fort Collins. Please RSVP to Christy at Boomer Music (970-223-2424 or boomermusiccompany@gmail.com) to receive your free packet of books and workshop materials.  Non members and members of other associations and teaching affiliations are very welcome.  Please feel free to bring guests. \nPiano Teaching Answers and Solutions \nFocus: Keith Snell offers answers and solutions to your questions and conundrums about piano teaching as he shares decades of teaching experience that led to the creation of his two newest series: Progressive Piano Repertoire and the Keith Snell Piano Course for the Adult Beginner.
URL:https://fcmta.org/event/keith-snell-workshop/
LOCATION:Trinity Lutheran Church\, 301 E Stuart\, Fort Collins\, CO\, 80525\, United States
CATEGORIES:Pedagogy,Professional Development,Workshop
END:VEVENT
END:VCALENDAR