BEGIN:VCALENDAR
VERSION:2.0
PRODID:-//Fort Collins Music Teachers Association - ECPv6.15.20//NONSGML v1.0//EN
CALSCALE:GREGORIAN
METHOD:PUBLISH
X-ORIGINAL-URL:https://fcmta.org
X-WR-CALDESC:Events for Fort Collins Music Teachers Association
REFRESH-INTERVAL;VALUE=DURATION:PT1H
X-Robots-Tag:noindex
X-PUBLISHED-TTL:PT1H
BEGIN:VTIMEZONE
TZID:America/Denver
BEGIN:DAYLIGHT
TZOFFSETFROM:-0700
TZOFFSETTO:-0600
TZNAME:MDT
DTSTART:20230312T090000
END:DAYLIGHT
BEGIN:STANDARD
TZOFFSETFROM:-0600
TZOFFSETTO:-0700
TZNAME:MST
DTSTART:20231105T080000
END:STANDARD
BEGIN:DAYLIGHT
TZOFFSETFROM:-0700
TZOFFSETTO:-0600
TZNAME:MDT
DTSTART:20240310T090000
END:DAYLIGHT
BEGIN:STANDARD
TZOFFSETFROM:-0600
TZOFFSETTO:-0700
TZNAME:MST
DTSTART:20241103T080000
END:STANDARD
BEGIN:DAYLIGHT
TZOFFSETFROM:-0700
TZOFFSETTO:-0600
TZNAME:MDT
DTSTART:20250309T090000
END:DAYLIGHT
BEGIN:STANDARD
TZOFFSETFROM:-0600
TZOFFSETTO:-0700
TZNAME:MST
DTSTART:20251102T080000
END:STANDARD
END:VTIMEZONE
BEGIN:VEVENT
DTSTART;TZID=America/Denver:20241101T190000
DTEND;TZID=America/Denver:20241101T200000
DTSTAMP:20260424T093643
CREATED:20240624T022146Z
LAST-MODIFIED:20240624T022146Z
UID:1203-1730487600-1730491200@fcmta.org
SUMMARY:All-Levels Recital
DESCRIPTION:Memorization required.  Contact your teacher to register.  5$ per student.
URL:https://fcmta.org/event/all-levels-recital-10/
LOCATION:Trinity Lutheran Church\, 301 E Stuart\, Fort Collins\, CO\, 80525\, United States
CATEGORIES:Recitals,Student Programs
ORGANIZER;CN="Jesse Pierson":MAILTO:jessepierson89@gmail.com
END:VEVENT
BEGIN:VEVENT
DTSTART;TZID=America/Denver:20241101T190000
DTEND;TZID=America/Denver:20241101T210000
DTSTAMP:20260424T093643
CREATED:20241007T015713Z
LAST-MODIFIED:20241008T025435Z
UID:1266-1730487600-1730494800@fcmta.org
SUMMARY:Adult Recital
DESCRIPTION:Contact your teacher to register.  $5 per entry.
URL:https://fcmta.org/event/adult-recital-3/
LOCATION:3633 Rocky Stream Drive\, 80528.
CATEGORIES:Recitals,Student Programs
ORGANIZER;CN="Allison Pietras":MAILTO:allisonhudak@hotmail.com
END:VEVENT
END:VCALENDAR