BEGIN:VCALENDAR
VERSION:2.0
PRODID:-//Fort Collins Music Teachers Association - ECPv6.15.20//NONSGML v1.0//EN
CALSCALE:GREGORIAN
METHOD:PUBLISH
X-WR-CALNAME:Fort Collins Music Teachers Association
X-ORIGINAL-URL:https://fcmta.org
X-WR-CALDESC:Events for Fort Collins Music Teachers Association
REFRESH-INTERVAL;VALUE=DURATION:PT1H
X-Robots-Tag:noindex
X-PUBLISHED-TTL:PT1H
BEGIN:VTIMEZONE
TZID:America/Denver
BEGIN:DAYLIGHT
TZOFFSETFROM:-0700
TZOFFSETTO:-0600
TZNAME:MDT
DTSTART:20240310T090000
END:DAYLIGHT
BEGIN:STANDARD
TZOFFSETFROM:-0600
TZOFFSETTO:-0700
TZNAME:MST
DTSTART:20241103T080000
END:STANDARD
BEGIN:DAYLIGHT
TZOFFSETFROM:-0700
TZOFFSETTO:-0600
TZNAME:MDT
DTSTART:20250309T090000
END:DAYLIGHT
BEGIN:STANDARD
TZOFFSETFROM:-0600
TZOFFSETTO:-0700
TZNAME:MST
DTSTART:20251102T080000
END:STANDARD
BEGIN:DAYLIGHT
TZOFFSETFROM:-0700
TZOFFSETTO:-0600
TZNAME:MDT
DTSTART:20260308T090000
END:DAYLIGHT
BEGIN:STANDARD
TZOFFSETFROM:-0600
TZOFFSETTO:-0700
TZNAME:MST
DTSTART:20261101T080000
END:STANDARD
END:VTIMEZONE
BEGIN:VEVENT
DTSTART;TZID=America/Denver:20251025T100000
DTEND;TZID=America/Denver:20251025T110000
DTSTAMP:20260423T192148
CREATED:20250916T223821Z
LAST-MODIFIED:20250916T223821Z
UID:1468-1761386400-1761390000@fcmta.org
SUMMARY:Halloween Recital [Rigden Farms Senior Living]
DESCRIPTION:FCMTA Halloween Recital info:\nFor this recital\, “spooky” or Fall-themed music is encouraged. \nStudents\, if you would like to participate in this recital\, discuss with your teacher.  Teachers\, you are encouraged to sign up students regardless of age\, skill level\, or genre of repertoire. There is a $5 fee per student\, which goes into funding FCMTA events. Teachers\, you may submit as many students as you would like. You can find the registration link in the member portal. This is a casual recital for students of all skills levels. Students are invited to dress up in their costume and play a spooky or fall themed piece for residents. Memorization is NOT required. Cost is $5 which helps to fund our program year. Students are also encouraged to bring a can of food to be donated to the Larimer County Food Bank. We draw names out of a pumpkin so there is no program or set order. Students will receive a piece of candy or small prize as they leave. Parents\, please sit in the back as the residents are encouraged to sit up front. \n\n\nMemorization is NOT required. Duets with fellow students or with teachers is allowed.\nArrive 10-15 minutes before the recital time\nCost is $5 per student\nFor questions or clarification\, contact the recital organizer:\n\n\nJesse Pierson – jessepierson89@gmail.com – (253) 439-8504
URL:https://fcmta.org/event/halloween-recital-rigden-farms-senior-living/
LOCATION:Rigden Farm Senior Living 2350 Limon Dr\, 2350 Limon Dr\, Fort Collins\, Colorado
CATEGORIES:Recitals
ORGANIZER;CN="Carrie Hansen":MAILTO:Carrieandbruce2001@yahoo.com
END:VEVENT
BEGIN:VEVENT
DTSTART;TZID=America/Denver:20251025T130000
DTEND;TZID=America/Denver:20251025T140000
DTSTAMP:20260423T192148
CREATED:20250916T223701Z
LAST-MODIFIED:20250916T223701Z
UID:1465-1761397200-1761400800@fcmta.org
SUMMARY:Halloween Recital [Collinwood Assisted Living]
DESCRIPTION:FCMTA Halloween Recital info:\nFor this recital\, “spooky” or Fall-themed music is encouraged. \nStudents\, if you would like to participate in this recital\, discuss with your teacher.  Teachers\, you are encouraged to sign up students regardless of age\, skill level\, or genre of repertoire. There is a $5 fee per student\, which goes into funding FCMTA events. Teachers\, you may submit as many students as you would like. You can find the registration link in the member portal. This is a casual recital for students of all skills levels. Students are invited to dress up in their costume and play a spooky or fall themed piece for residents. Memorization is NOT required. Cost is $5 which helps to fund our program year. Students are also encouraged to bring a can of food to be donated to the Larimer County Food Bank. We draw names out of a pumpkin so there is no program or set order. Students will receive a piece of candy or small prize as they leave. Parents\, please sit in the back as the residents are encouraged to sit up front. \n\n\nMemorization is NOT required. Duets with fellow students or with teachers is allowed.\nArrive 10-15 minutes before the recital time\nCost is $5 per student\nFor questions or clarification\, contact the recital organizer:\n\n\nJesse Pierson – jessepierson89@gmail.com – (253) 439-8504
URL:https://fcmta.org/event/halloween-recital-collinwood-assisted-living/
LOCATION:Collinwood Assisted Living\, 5055 S Lemay Ave\, Fort Collins\, Colorado
CATEGORIES:Recitals
ORGANIZER;CN="Carrie Hansen":MAILTO:Carrieandbruce2001@yahoo.com
END:VEVENT
BEGIN:VEVENT
DTSTART;TZID=America/Denver:20251025T140000
DTEND;TZID=America/Denver:20251025T150000
DTSTAMP:20260423T192148
CREATED:20250826T210617Z
LAST-MODIFIED:20250826T210617Z
UID:1406-1761400800-1761404400@fcmta.org
SUMMARY:Halloween Recital [New Mercer Commons]
DESCRIPTION:FCMTA Halloween Recital info:\nFor this recital\, “spooky” or Fall-themed music is encouraged. \nStudents\, if you would like to participate in this recital\, discuss with your teacher.  Teachers\, you are encouraged to sign up students regardless of age\, skill level\, or genre of repertoire. There is a $5 fee per student\, which goes into funding FCMTA events. Teachers\, you may submit as many students as you would like. You can find the registration link in the member portal. This is a casual recital for students of all skills levels. Students are invited to dress up in their costume and play a spooky or fall themed piece for residents. Memorization is NOT required. Cost is $5 which helps to fund our program year. Students are also encouraged to bring a can of food to be donated to the Larimer County Food Bank. We draw names out of a pumpkin so there is no program or set order. Students will receive a piece of candy or small prize as they leave. Parents\, please sit in the back as the residents are encouraged to sit up front. \n\n\nMemorization is NOT required. Duets with fellow students or with teachers is allowed.\nArrive 10-15 minutes before the recital time\nCost is $5 per student\nFor questions or clarification\, contact the recital organizer:\n\n\nJesse Pierson – jessepierson89@gmail.com – (253) 439-8504
URL:https://fcmta.org/event/halloween-recital-new-mercer-commons-2/
LOCATION:New Mercer Commons\, 900 Centre Ave\, Fort Collins
CATEGORIES:Recitals
ORGANIZER;CN="Jesse Pierson":MAILTO:jessepierson89@gmail.com
END:VEVENT
BEGIN:VEVENT
DTSTART;TZID=America/Denver:20251025T143000
DTEND;TZID=America/Denver:20251025T153000
DTSTAMP:20260423T192148
CREATED:20250826T210413Z
LAST-MODIFIED:20250826T210413Z
UID:1402-1761402600-1761406200@fcmta.org
SUMMARY:Halloween Recital [Parkwood Estates]
DESCRIPTION:FCMTA Halloween Recital info:\nFor this recital\, “spooky” or Fall-themed music is encouraged. \nStudents\, if you would like to participate in this recital\, discuss with your teacher.  Teachers\, you are encouraged to sign up students regardless of age\, skill level\, or genre of repertoire. There is a $5 fee per student\, which goes into funding FCMTA events. Teachers\, you may submit as many students as you would like. You can find the registration link in the member portal. This is a casual recital for students of all skills levels. Students are invited to dress up in their costume and play a spooky or fall themed piece for residents. Memorization is NOT required. Cost is $5 which helps to fund our program year. Students are also encouraged to bring a can of food to be donated to the Larimer County Food Bank. We draw names out of a pumpkin so there is no program or set order. Students will receive a piece of candy or small prize as they leave. Parents\, please sit in the back as the residents are encouraged to sit up front. \n\n\nMemorization is NOT required. Duets with fellow students or with teachers is allowed.\nArrive 10-15 minutes before the recital time\nCost is $5 per student\nFor questions or clarification\, contact the recital organizer:\n\n\nJesse Pierson – jessepierson89@gmail.com – (253) 439-8504
URL:https://fcmta.org/event/halloween-recital-parkwood-estates/
LOCATION:Parkwood Estates\, 2201 South Lemay\, Fort Collins\, Colorado
CATEGORIES:Recitals
ORGANIZER;CN="Jesse Pierson":MAILTO:jessepierson89@gmail.com
END:VEVENT
END:VCALENDAR