BEGIN:VCALENDAR
VERSION:2.0
PRODID:-//Fort Collins Music Teachers Association - ECPv6.15.20//NONSGML v1.0//EN
CALSCALE:GREGORIAN
METHOD:PUBLISH
X-ORIGINAL-URL:https://fcmta.org
X-WR-CALDESC:Events for Fort Collins Music Teachers Association
REFRESH-INTERVAL;VALUE=DURATION:PT1H
X-Robots-Tag:noindex
X-PUBLISHED-TTL:PT1H
BEGIN:VTIMEZONE
TZID:America/Denver
BEGIN:DAYLIGHT
TZOFFSETFROM:-0700
TZOFFSETTO:-0600
TZNAME:MDT
DTSTART:20240310T090000
END:DAYLIGHT
BEGIN:STANDARD
TZOFFSETFROM:-0600
TZOFFSETTO:-0700
TZNAME:MST
DTSTART:20241103T080000
END:STANDARD
BEGIN:DAYLIGHT
TZOFFSETFROM:-0700
TZOFFSETTO:-0600
TZNAME:MDT
DTSTART:20250309T090000
END:DAYLIGHT
BEGIN:STANDARD
TZOFFSETFROM:-0600
TZOFFSETTO:-0700
TZNAME:MST
DTSTART:20251102T080000
END:STANDARD
BEGIN:DAYLIGHT
TZOFFSETFROM:-0700
TZOFFSETTO:-0600
TZNAME:MDT
DTSTART:20260308T090000
END:DAYLIGHT
BEGIN:STANDARD
TZOFFSETFROM:-0600
TZOFFSETTO:-0700
TZNAME:MST
DTSTART:20261101T080000
END:STANDARD
END:VTIMEZONE
BEGIN:VEVENT
DTSTART;VALUE=DATE:20251115
DTEND;VALUE=DATE:20251116
DTSTAMP:20260423T181124
CREATED:20250806T212013Z
LAST-MODIFIED:20250911T205252Z
UID:1398-1763164800-1763251199@fcmta.org
SUMMARY:Fall Festival
DESCRIPTION:The Fall Festival is an annual event put on by FCMTA. It is a formal event where students perform two contrasting pieces for a panel of judges who provide them with feedback on their performance. After all the performers have played\, the judges will select deserving students to perform in the evening “Honors Recital.”  All the performers are encouraged to attend. After the performance\, awards will be given to all participants. \nStudents\, if you would like to participate in this event\, discuss with your teacher. Teachers\, you are encouraged to register as many students as you would like. While it is open to students of all ages and skill levels\, they should be adequately prepared for this formal event and able to meet the memorization\, and thematic requirements of the event. You can find the registration link in the member portal. \n\nCost: $30\nTheme: “Dance Music”\nSchedule:\n\nIndividual performances will take place all day\nHonors Recital will take place at 7:00PM in Runyan Hall\, which is in the University Center for the Arts on the CSU campus
URL:https://fcmta.org/event/fall-festival-4/
LOCATION:CSU Runyan Hall\, 1400 Remington St\, Fort Collins\, Colorado
CATEGORIES:Recitals,Student Programs
ORGANIZER;CN="Silvana Satinelli":MAILTO:silvanasantinelli@gmail.com
END:VEVENT
END:VCALENDAR