BEGIN:VCALENDAR
VERSION:2.0
PRODID:-//Fort Collins Music Teachers Association - ECPv6.15.20//NONSGML v1.0//EN
CALSCALE:GREGORIAN
METHOD:PUBLISH
X-ORIGINAL-URL:https://fcmta.org
X-WR-CALDESC:Events for Fort Collins Music Teachers Association
REFRESH-INTERVAL;VALUE=DURATION:PT1H
X-Robots-Tag:noindex
X-PUBLISHED-TTL:PT1H
BEGIN:VTIMEZONE
TZID:America/Denver
BEGIN:DAYLIGHT
TZOFFSETFROM:-0700
TZOFFSETTO:-0600
TZNAME:MDT
DTSTART:20240310T090000
END:DAYLIGHT
BEGIN:STANDARD
TZOFFSETFROM:-0600
TZOFFSETTO:-0700
TZNAME:MST
DTSTART:20241103T080000
END:STANDARD
BEGIN:DAYLIGHT
TZOFFSETFROM:-0700
TZOFFSETTO:-0600
TZNAME:MDT
DTSTART:20250309T090000
END:DAYLIGHT
BEGIN:STANDARD
TZOFFSETFROM:-0600
TZOFFSETTO:-0700
TZNAME:MST
DTSTART:20251102T080000
END:STANDARD
BEGIN:DAYLIGHT
TZOFFSETFROM:-0700
TZOFFSETTO:-0600
TZNAME:MDT
DTSTART:20260308T090000
END:DAYLIGHT
BEGIN:STANDARD
TZOFFSETFROM:-0600
TZOFFSETTO:-0700
TZNAME:MST
DTSTART:20261101T080000
END:STANDARD
END:VTIMEZONE
BEGIN:VEVENT
DTSTART;TZID=America/Denver:20251206T090000
DTEND;TZID=America/Denver:20251206T160000
DTSTAMP:20260423T170853
CREATED:20251112T023540Z
LAST-MODIFIED:20251112T023540Z
UID:1491-1765011600-1765036800@fcmta.org
SUMMARY:Holiday Play-A-Thon
DESCRIPTION:FCMTA will have a keyboard and section of folding chairs for an audience set up on the Foothills Mall for students to perform music throughout the day. It is a casual setting\, therefore\, the music does not need to be memorized. All skill levels are welcome. Teachers\, please find the sign-up sheet in the “Member Portal” where you can reserve any number of 30-minute blocks for your studio. Arrange with your students/families to fill the block(s).
URL:https://fcmta.org/event/holiday-play-a-thon-3/
LOCATION:Foothills Mall\, 215 E Foothills Pkwy\, Fort Collins\, CO\, 80525
CATEGORIES:Recitals
ORGANIZER;CN="Sonia Haxton Tressler":MAILTO:soniahaxton@gmail.com
END:VEVENT
END:VCALENDAR