BEGIN:VCALENDAR
VERSION:2.0
PRODID:-//Fort Collins Music Teachers Association - ECPv6.15.20//NONSGML v1.0//EN
CALSCALE:GREGORIAN
METHOD:PUBLISH
X-WR-CALNAME:Fort Collins Music Teachers Association
X-ORIGINAL-URL:https://fcmta.org
X-WR-CALDESC:Events for Fort Collins Music Teachers Association
REFRESH-INTERVAL;VALUE=DURATION:PT1H
X-Robots-Tag:noindex
X-PUBLISHED-TTL:PT1H
BEGIN:VTIMEZONE
TZID:America/Denver
BEGIN:DAYLIGHT
TZOFFSETFROM:-0700
TZOFFSETTO:-0600
TZNAME:MDT
DTSTART:20250309T090000
END:DAYLIGHT
BEGIN:STANDARD
TZOFFSETFROM:-0600
TZOFFSETTO:-0700
TZNAME:MST
DTSTART:20251102T080000
END:STANDARD
BEGIN:DAYLIGHT
TZOFFSETFROM:-0700
TZOFFSETTO:-0600
TZNAME:MDT
DTSTART:20260308T090000
END:DAYLIGHT
BEGIN:STANDARD
TZOFFSETFROM:-0600
TZOFFSETTO:-0700
TZNAME:MST
DTSTART:20261101T080000
END:STANDARD
BEGIN:DAYLIGHT
TZOFFSETFROM:-0700
TZOFFSETTO:-0600
TZNAME:MDT
DTSTART:20270314T090000
END:DAYLIGHT
BEGIN:STANDARD
TZOFFSETFROM:-0600
TZOFFSETTO:-0700
TZNAME:MST
DTSTART:20271107T080000
END:STANDARD
END:VTIMEZONE
BEGIN:VEVENT
DTSTART;TZID=America/Denver:20260112T080000
DTEND;TZID=America/Denver:20260112T110000
DTSTAMP:20260423T181302
CREATED:20250722T030219Z
LAST-MODIFIED:20250826T214007Z
UID:1372-1768204800-1768215600@fcmta.org
SUMMARY:General Meeting and Program
DESCRIPTION:General Meeting: 9:00 \nProgram: 10:00 – Dr. Wan-Chin Chang\, Piano Department Chair at Blue Lake Fine Arts Camp and faculty at\nSoka University.\nSession Topic: TBA \n \nNotes: The general meeting is designed for professional development\, discussion of upcoming events\, delegation of tasks\, organizational reports\, spreading of news from the state and national level\, as well as general camaraderie between local teachers of all kinds. All FCMTA members are encouraged to attend the monthly meeting and program. There will be a recording for those that are unable to attend. Collegiate chapter members of MTNA are encouraged. Prospective members are always welcome to come introduce themselves\, ask questions\, and get a feel for what the organization is about.
URL:https://fcmta.org/event/general-meeting-and-program-10/
LOCATION:Trinity Lutheran Church\, 301 E Stuart\, Fort Collins\, CO\, 80525\, United States
CATEGORIES:General Meeting,Member Meeting,Pedagogy,Professional Development
ORGANIZER;CN="Jesse Pierson":MAILTO:jessepierson89@gmail.com
END:VEVENT
BEGIN:VEVENT
DTSTART;TZID=America/Denver:20260130T190000
DTEND;TZID=America/Denver:20260130T203000
DTSTAMP:20260423T181302
CREATED:20250816T150941Z
LAST-MODIFIED:20250816T150941Z
UID:1400-1769799600-1769805000@fcmta.org
SUMMARY:Ensemble Recital
DESCRIPTION:FCMTA Ensemble Recital info:\nThis recital is only for ensemble pieces. Performances can include (but are not limited to) chamber music\, 4-hand duets\, 2-piano duets\, pop and rock\, voice and accompaniment\, etc. \nStudents\, if you would like to participate in this recital\, discuss with your teacher. Teachers\, you are encouraged to sign up students regardless of age\, skill level\, or genre of repertoire. Teacher’s please clearly label the needs for each performance (number of pianos\, music stands\, amplification\, drum set\, etc.).  Due to the cost of facilities\, there is a $5 fee per performance and there need to be a minimum of 10 performances for the recital to take place. Teachers\, you may submit as many students as you would like. You can find the registration link in the member portal. While this is a relatively low-stakes performance opportunity\, please ask students to dress appropriately for a church-venue recital. Some of the older students are taking it very seriously and it lessens their experience when certain standards are not kept. \n\n\nMemorization is encouraged\, but not required. Duets with fellow students or with teachers is allowed.\nArrive 10-15 minutes before the recital time\nCost is $5 per performance\nFor questions or clarification\, contact the recital organizer:\n\n\nJesse Pierson – jessepierson89@gmail.com – (253) 439-8504
URL:https://fcmta.org/event/ensemble-recital-3/
LOCATION:Trinity Lutheran Church\, 301 E Stuart\, Fort Collins\, CO\, 80525\, United States
CATEGORIES:Recitals
ORGANIZER;CN="Jesse Pierson":MAILTO:jessepierson89@gmail.com
END:VEVENT
BEGIN:VEVENT
DTSTART;TZID=America/Denver:20260209T080000
DTEND;TZID=America/Denver:20260209T110000
DTSTAMP:20260423T181302
CREATED:20250722T030311Z
LAST-MODIFIED:20250826T212149Z
UID:1374-1770624000-1770634800@fcmta.org
SUMMARY:General Meeting and Program
DESCRIPTION:General Meeting: 9:00 \nProgram: 10:00 – Dr. Jung Won Shin\, Piano Professor at New Mexico State University\, ZOOM\nSession Topic: TBA \n \nNotes: The general meeting and program are designed for professional development\, discussion of upcoming events\, delegation of tasks\, organizational reports\, spreading of news from the state and national level\, as well as general camaraderie between local teachers of all kinds. All FCMTA members are encouraged to attend the monthly meeting and program. There will be a recording for those that are unable to attend. Collegiate chapter members of MTNA are encouraged. Prospective members are always welcome to come introduce themselves\, ask questions\, and get a feel for what the organization is about.
URL:https://fcmta.org/event/general-meeting-and-program-11/
LOCATION:Trinity Lutheran Church\, 301 E Stuart\, Fort Collins\, CO\, 80525\, United States
CATEGORIES:General Meeting,Member Meeting,Pedagogy,Professional Development
ORGANIZER;CN="Jesse Pierson":MAILTO:jessepierson89@gmail.com
END:VEVENT
BEGIN:VEVENT
DTSTART;TZID=America/Denver:20260220T190000
DTEND;TZID=America/Denver:20260220T200000
DTSTAMP:20260423T181302
CREATED:20250806T210303Z
LAST-MODIFIED:20250806T210314Z
UID:1390-1771614000-1771617600@fcmta.org
SUMMARY:February Student Recital
DESCRIPTION:FCMTA Student Recital info:\nStudents\, if you would like to participate in this recital\, discuss with your teacher. Teachers\, you are encouraged to sign up students regardless of age\, skill level\, or genre of repertoire. Due to the cost of facilities\, there is a $5 fee per student and there need to be a minimum of 10 students for the recital to take place. Teachers\, you may submit as many students as you would like. You can find the registration link in the member portal. While this is a relatively low-stakes performance opportunity\, please ask students to dress appropriately for a church-venue recital. Some of the older students are taking it very seriously and it lessens their experience when certain standards are not kept. \n\n\nMemorization is encouraged\, but not required. Duets with fellow students or with teachers is allowed.\nArrive 10-15 minutes before the recital time\nCost is $5 per student\nFor questions or clarification\, contact the recital organizer:\n\n\nJesse Pierson – jessepierson89@gmail.com – (253) 439-8504
URL:https://fcmta.org/event/february-student-recital/
LOCATION:Trinity Lutheran Church\, 301 E Stuart\, Fort Collins\, CO\, 80525\, United States
CATEGORIES:Recitals,Student Programs
ORGANIZER;CN="Jesse Pierson":MAILTO:jessepierson89@gmail.com
END:VEVENT
BEGIN:VEVENT
DTSTART;VALUE=DATE:20260307
DTEND;VALUE=DATE:20260308
DTSTAMP:20260423T181302
CREATED:20251120T212358Z
LAST-MODIFIED:20251120T212358Z
UID:1504-1772841600-1772927999@fcmta.org
SUMMARY:Student Achievement Day
DESCRIPTION:Student Achievement Day (StAD) is a non-competitive student event run by CSMTA local associations in Colorado\, following guidelines created at the state level. Each student performs privately for a listener who evaluates the level of certificate to be earned as well as constructive feedback. Teachers\, parents\, and students can find the link for FCMTA Frequently Asked Questions here. Additionally\, more intricate guidelines for certificate levels and music-related options\, including written and aural tests\, are found in the CSMTA Student Achievement Day Comprehensive Guidelines. These guidelines also explain how students may receive the status of “Super Achiever” by completing additional requirements. Students/Parents\, ask your teacher for more information. Teachers\, if you have not registered students for StAD before or have additional questions\, contact the event chair or another board member.\nAdditional unique programs for FCMTA StAD will be announced closer to the event date\, but may include: master classes\, project/art displays\, games\, T-shirt design\, recitals\, scavenger hunts\, music technology labs\, and more!\nCost for event registration is $20 per student with additional merchandise available for purchase through registration. 
URL:https://fcmta.org/event/student-achievement-day-4/
LOCATION:Trinity Lutheran Church\, 301 E Stuart\, Fort Collins\, CO\, 80525\, United States
CATEGORIES:Student Programs
ORGANIZER;CN="Vanessa Felhauer":MAILTO:vanessa@created4r.com
END:VEVENT
BEGIN:VEVENT
DTSTART;TZID=America/Denver:20260309T080000
DTEND;TZID=America/Denver:20260309T110000
DTSTAMP:20260423T181302
CREATED:20250722T030356Z
LAST-MODIFIED:20250826T212336Z
UID:1376-1773043200-1773054000@fcmta.org
SUMMARY:General Meeting and Program
DESCRIPTION:General Meeting: 9:00 \nProgram: 10:00 -Dr. Nieto Fernanda\, Director of Education and Community Engagement with the Boulder Philharmonic Orchestra\nSession Topic: TBA \n \nNotes: The general meeting and program are designed for professional development\, discussion of upcoming events\, delegation of tasks\, organizational reports\, spreading of news from the state and national level\, as well as general camaraderie between local teachers of all kinds. All FCMTA members are encouraged to attend the monthly meeting and program. There will be a recording for those that are unable to attend. Collegiate chapter members of MTNA are encouraged. Prospective members are always welcome to come introduce themselves\, ask questions\, and get a feel for what the organization is about.
URL:https://fcmta.org/event/general-meeting-and-program-12/
LOCATION:Trinity Lutheran Church\, 301 E Stuart\, Fort Collins\, CO\, 80525\, United States
CATEGORIES:General Meeting,Member Meeting,Pedagogy,Professional Development
ORGANIZER;CN="Jesse Pierson":MAILTO:jessepierson89@gmail.com
END:VEVENT
BEGIN:VEVENT
DTSTART;TZID=America/Denver:20260410T190000
DTEND;TZID=America/Denver:20260410T210000
DTSTAMP:20260423T181302
CREATED:20250829T212436Z
LAST-MODIFIED:20260220T174711Z
UID:1444-1775847600-1775854800@fcmta.org
SUMMARY:Adult Recital
DESCRIPTION:If any students or teachers would like to host this recital in their home\, please contact the event organizer. Traditionally\, the adult recitals are home recitals\, but this one remains without a venue. If nobody volunteers\, it will remain at Trinity Lutheran.\n\nFCMTA Adult Recital Info\nAll adult music students who are 21 years and older are welcome to share prepared music with other adult musicians.  Teachers\, you are encouraged to sign up students regardless of skill level\, or genre of repertoire. Memorization is NOT required. You can find the registration link in the member portal. Everyone is welcome to bring a guest as well as something to share at the reception: either a favorite beverage\, appetizer\, or dessert. The first hour is reserved for performing\, and the second hour is spent socializing and enjoying the company of everyone in attendance.
URL:https://fcmta.org/event/adult-recital-6/
LOCATION:Nakagawa Home\, 7045 Aladar Drive\, Windsor\, CO\, 80550\, United States
CATEGORIES:Recitals
ORGANIZER;CN="Allison Pietras":MAILTO:allisonhudak@hotmail.com
END:VEVENT
BEGIN:VEVENT
DTSTART;TZID=America/Denver:20260413T080000
DTEND;TZID=America/Denver:20260413T110000
DTSTAMP:20260423T181302
CREATED:20250722T030454Z
LAST-MODIFIED:20250722T030454Z
UID:1378-1776067200-1776078000@fcmta.org
SUMMARY:General Meeting and Program
DESCRIPTION:General Meeting: 9:00 \nProgram: 10:00 – Session Topic TBD \nNotes: The general meeting is designed for professional development\, discussion of upcoming events\, delegation of tasks\, organizational reports\, spreading of news from the state and national level\, as well as general camaraderie between local teachers of all kinds. All FCMTA members are encouraged to attend the monthly meeting and program. There will be a recording for those that are unable to attend. Collegiate chapter members of MTNA are encouraged. Prospective members are always welcome to come introduce themselves\, ask questions\, and get a feel for what the organization is about.
URL:https://fcmta.org/event/general-meeting-and-program-13/
LOCATION:Trinity Lutheran Church\, 301 E Stuart\, Fort Collins\, CO\, 80525\, United States
CATEGORIES:General Meeting,Member Meeting,Pedagogy,Professional Development
ORGANIZER;CN="Jesse Pierson":MAILTO:jessepierson89@gmail.com
END:VEVENT
BEGIN:VEVENT
DTSTART;TZID=America/Denver:20260417T190000
DTEND;TZID=America/Denver:20260417T200000
DTSTAMP:20260423T181302
CREATED:20250806T210601Z
LAST-MODIFIED:20250806T210601Z
UID:1393-1776452400-1776456000@fcmta.org
SUMMARY:April Student Recital (Pop/Jazz Theme)
DESCRIPTION:FCMTA Student Recital info:\nFor this recital\, Pop and Jazz music is encouraged\, but not required. \nStudents\, if you would like to participate in this recital\, discuss with your teacher.  Teachers\, you are encouraged to sign up students regardless of age\, skill level\, or genre of repertoire. Due to the cost of facilities\, there is a $5 fee per student and there need to be a minimum of 10 students for the recital to take place. Teachers\, you may submit as many students as you would like. You can find the registration link in the member portal. While this is a relatively low-stakes performance opportunity\, please ask students to dress appropriately for a church-venue recital. Some of the older students are taking it very seriously and it lessens their experience when certain standards are not kept. \n\n\nMemorization is encouraged\, but not required. Duets with fellow students or with teachers is allowed.\nArrive 10-15 minutes before the recital time\nCost is $5 per student\nFor questions or clarification\, contact the recital organizer:\n\n\nJesse Pierson – jessepierson89@gmail.com – (253) 439-8504
URL:https://fcmta.org/event/april-student-recital-pop-jazz-theme/
LOCATION:Trinity Lutheran Church\, 301 E Stuart\, Fort Collins\, CO\, 80525\, United States
CATEGORIES:Recitals,Student Programs
ORGANIZER;CN="Jesse Pierson":MAILTO:jessepierson89@gmail.com
END:VEVENT
BEGIN:VEVENT
DTSTART;TZID=America/Denver:20260508T190000
DTEND;TZID=America/Denver:20260508T200000
DTSTAMP:20260423T181302
CREATED:20250806T210909Z
LAST-MODIFIED:20250806T210909Z
UID:1396-1778266800-1778270400@fcmta.org
SUMMARY:May Honors Recital
DESCRIPTION:FCMTA Honors Recital info:\nStudents\, if you would like to participate in this recital\, discuss with your teacher.  Teachers\, you may select  two exemplary students of their choice for the honor of performing in this recital.  Memorization is required. You are encouraged to sign up students you would like you showcase regardless of age\, skill level\, or genre of repertoire. Due to the cost of facilities\, there is a $5 fee per student and there need to be a minimum of 10 students for the recital to take place. You can find the registration link in the member portal. While the venue is the same\, this recital is intended to be a more formal event. Please dress accordingly. \n\n\nMemorization is encouraged\, but not required. Duets with fellow students or with teachers is allowed.\nArrive 10-15 minutes before the recital time\nCost is $5 per student\nFor questions or clarification\, contact the recital organizer:\n\n\nJesse Pierson – jessepierson89@gmail.com – (253) 439-8504
URL:https://fcmta.org/event/may-honors-recital/
LOCATION:Trinity Lutheran Church\, 301 E Stuart\, Fort Collins\, CO\, 80525\, United States
CATEGORIES:Recitals,Student Programs
ORGANIZER;CN="Jesse Pierson":MAILTO:jessepierson89@gmail.com
END:VEVENT
BEGIN:VEVENT
DTSTART;TZID=America/Denver:20260511T080000
DTEND;TZID=America/Denver:20260511T110000
DTSTAMP:20260423T181302
CREATED:20250722T030534Z
LAST-MODIFIED:20250722T030534Z
UID:1380-1778486400-1778497200@fcmta.org
SUMMARY:General Meeting and Program
DESCRIPTION:General Meeting: 9:00 \nProgram: 10:00 – Session Topic TBD \nNotes: The general meeting is designed for professional development\, discussion of upcoming events\, delegation of tasks\, organizational reports\, spreading of news from the state and national level\, as well as general camaraderie between local teachers of all kinds. All FCMTA members are encouraged to attend the monthly meeting and program. There will be a recording for those that are unable to attend. Collegiate chapter members of MTNA are encouraged. Prospective members are always welcome to come introduce themselves\, ask questions\, and get a feel for what the organization is about.
URL:https://fcmta.org/event/general-meeting-and-program-14/
LOCATION:Trinity Lutheran Church\, 301 E Stuart\, Fort Collins\, CO\, 80525\, United States
CATEGORIES:General Meeting,Member Meeting,Pedagogy,Professional Development
ORGANIZER;CN="Jesse Pierson":MAILTO:jessepierson89@gmail.com
END:VEVENT
END:VCALENDAR