BEGIN:VCALENDAR
VERSION:2.0
PRODID:-//Fort Collins Music Teachers Association - ECPv6.15.20//NONSGML v1.0//EN
CALSCALE:GREGORIAN
METHOD:PUBLISH
X-WR-CALNAME:Fort Collins Music Teachers Association
X-ORIGINAL-URL:https://fcmta.org
X-WR-CALDESC:Events for Fort Collins Music Teachers Association
REFRESH-INTERVAL;VALUE=DURATION:PT1H
X-Robots-Tag:noindex
X-PUBLISHED-TTL:PT1H
BEGIN:VTIMEZONE
TZID:America/Denver
BEGIN:DAYLIGHT
TZOFFSETFROM:-0700
TZOFFSETTO:-0600
TZNAME:MDT
DTSTART:20220313T090000
END:DAYLIGHT
BEGIN:STANDARD
TZOFFSETFROM:-0600
TZOFFSETTO:-0700
TZNAME:MST
DTSTART:20221106T080000
END:STANDARD
BEGIN:DAYLIGHT
TZOFFSETFROM:-0700
TZOFFSETTO:-0600
TZNAME:MDT
DTSTART:20230312T090000
END:DAYLIGHT
BEGIN:STANDARD
TZOFFSETFROM:-0600
TZOFFSETTO:-0700
TZNAME:MST
DTSTART:20231105T080000
END:STANDARD
BEGIN:DAYLIGHT
TZOFFSETFROM:-0700
TZOFFSETTO:-0600
TZNAME:MDT
DTSTART:20240310T090000
END:DAYLIGHT
BEGIN:STANDARD
TZOFFSETFROM:-0600
TZOFFSETTO:-0700
TZNAME:MST
DTSTART:20241103T080000
END:STANDARD
BEGIN:DAYLIGHT
TZOFFSETFROM:-0700
TZOFFSETTO:-0600
TZNAME:MDT
DTSTART:20250309T090000
END:DAYLIGHT
BEGIN:STANDARD
TZOFFSETFROM:-0600
TZOFFSETTO:-0700
TZNAME:MST
DTSTART:20251102T080000
END:STANDARD
END:VTIMEZONE
BEGIN:VEVENT
DTSTART;TZID=America/Denver:20241014T090000
DTEND;TZID=America/Denver:20241014T110000
DTSTAMP:20260423T155928
CREATED:20241008T014328Z
LAST-MODIFIED:20241008T014328Z
UID:1276-1728896400-1728903600@fcmta.org
SUMMARY:General Meeting and Program
DESCRIPTION:General Meeting – 9:00 AM \nProgram Time – 10:00 AM \nProgram Title: “MTNA 2024 Sessions Recap” \nPresenter: Mary Ann Ranney and Carrie Hansen \n 
URL:https://fcmta.org/event/general-meeting-and-program/
LOCATION:Trinity Lutheran Church\, 301 E Stuart\, Fort Collins\, CO\, 80525\, United States
ORGANIZER;CN="FCMTA":MAILTO:info@fcmta.org
END:VEVENT
BEGIN:VEVENT
DTSTART;TZID=America/Denver:20241011T190000
DTEND;TZID=America/Denver:20241011T200000
DTSTAMP:20260423T155928
CREATED:20240619T021315Z
LAST-MODIFIED:20240624T021937Z
UID:1184-1728673200-1728676800@fcmta.org
SUMMARY:All-Levels Recital
DESCRIPTION:Memorization optional. $5 per student.  Contact your teacher to register.
URL:https://fcmta.org/event/all-levels-recital-9/
LOCATION:Trinity Lutheran Church\, 301 E Stuart\, Fort Collins\, CO\, 80525\, United States
CATEGORIES:Recitals,Student Programs
ORGANIZER;CN="Jesse Pierson":MAILTO:jessepierson89@gmail.com
END:VEVENT
BEGIN:VEVENT
DTSTART;TZID=America/Denver:20240802T093000
DTEND;TZID=America/Denver:20240802T113000
DTSTAMP:20260423T155928
CREATED:20240703T033300Z
LAST-MODIFIED:20240703T033300Z
UID:1218-1722591000-1722598200@fcmta.org
SUMMARY:Bastien Workshop
DESCRIPTION:
URL:https://fcmta.org/event/bastien-workshop/
LOCATION:Trinity Lutheran Church\, 301 E Stuart\, Fort Collins\, CO\, 80525\, United States
CATEGORIES:Workshop
END:VEVENT
BEGIN:VEVENT
DTSTART;TZID=America/Denver:20240513T100000
DTEND;TZID=America/Denver:20240513T230000
DTSTAMP:20260423T155928
CREATED:20231009T152513Z
LAST-MODIFIED:20231009T152513Z
UID:960-1715594400-1715641200@fcmta.org
SUMMARY:Local Association Teachers Musical Performance
DESCRIPTION:
URL:https://fcmta.org/event/local-association-teachers-musical-performance/
LOCATION:Trinity Lutheran Church\, 301 E Stuart\, Fort Collins\, CO\, 80525\, United States
CATEGORIES:Member Meeting
ORGANIZER;CN="FCMTA":MAILTO:info@fcmta.org
END:VEVENT
BEGIN:VEVENT
DTSTART;TZID=America/Denver:20240513T090000
DTEND;TZID=America/Denver:20240513T090000
DTSTAMP:20260423T155928
CREATED:20230621T210908Z
LAST-MODIFIED:20231002T151158Z
UID:771-1715590800-1715590800@fcmta.org
SUMMARY:General Meeting
DESCRIPTION:
URL:https://fcmta.org/event/general-meeting-16/
LOCATION:Trinity Lutheran Church\, 301 E Stuart\, Fort Collins\, CO\, 80525\, United States
CATEGORIES:General Meeting
ORGANIZER;CN="FCMTA":MAILTO:info@fcmta.org
END:VEVENT
BEGIN:VEVENT
DTSTART;TZID=America/Denver:20240412T090000
DTEND;TZID=America/Denver:20240412T090000
DTSTAMP:20260423T155928
CREATED:20230621T210732Z
LAST-MODIFIED:20230913T041008Z
UID:769-1712912400-1712912400@fcmta.org
SUMMARY:All Levels Recital
DESCRIPTION:
URL:https://fcmta.org/event/all-levels-recital-8/
LOCATION:Trinity Lutheran Church\, 301 E Stuart\, Fort Collins\, CO\, 80525\, United States
CATEGORIES:Recitals
ORGANIZER;CN="Jesse Pierson":MAILTO:jessepierson89@gmail.com
END:VEVENT
BEGIN:VEVENT
DTSTART;TZID=America/Denver:20240408T100000
DTEND;TZID=America/Denver:20240408T110000
DTSTAMP:20260423T155928
CREATED:20231009T152301Z
LAST-MODIFIED:20231009T152301Z
UID:958-1712570400-1712574000@fcmta.org
SUMMARY:Presentation by Jooeun Park: Interpretation Using Painting and Schumann's Dichterliebe
DESCRIPTION:
URL:https://fcmta.org/event/presentation-by-jooeun-park-interpretation-using-painting-and-schumanns-dichterliebe/
LOCATION:Trinity Lutheran Church\, 301 E Stuart\, Fort Collins\, CO\, 80525\, United States
CATEGORIES:Member Meeting
ORGANIZER;CN="FCMTA":MAILTO:info@fcmta.org
END:VEVENT
BEGIN:VEVENT
DTSTART;TZID=America/Denver:20240408T090000
DTEND;TZID=America/Denver:20240408T090000
DTSTAMP:20260423T155928
CREATED:20230621T210542Z
LAST-MODIFIED:20230621T210542Z
UID:767-1712566800-1712566800@fcmta.org
SUMMARY:General Meeting
DESCRIPTION:
URL:https://fcmta.org/event/general-meeting-15/
LOCATION:Trinity Lutheran Church\, 301 E Stuart\, Fort Collins\, CO\, 80525\, United States
CATEGORIES:General Meeting
END:VEVENT
BEGIN:VEVENT
DTSTART;TZID=America/Denver:20240402T090000
DTEND;TZID=America/Denver:20240402T090000
DTSTAMP:20260423T155928
CREATED:20230621T210409Z
LAST-MODIFIED:20230918T160153Z
UID:765-1712048400-1712048400@fcmta.org
SUMMARY:Board Meeting
DESCRIPTION:
URL:https://fcmta.org/event/board-meeting-6/
LOCATION:Trinity Lutheran Church\, 301 E Stuart\, Fort Collins\, CO\, 80525\, United States
CATEGORIES:Board Meeting
ORGANIZER;CN="FCMTA":MAILTO:info@fcmta.org
END:VEVENT
BEGIN:VEVENT
DTSTART;TZID=America/Denver:20240324T140000
DTEND;TZID=America/Denver:20240324T180000
DTSTAMP:20260423T155928
CREATED:20240208T222848Z
LAST-MODIFIED:20240208T222848Z
UID:1060-1711288800-1711303200@fcmta.org
SUMMARY:Masterclass with Dr. Wallick
DESCRIPTION:Masterclass with Dr. Wallick March 24th from 2-6 at CSU\, Organ Recital Hall.  Participation in this event is open to dedicated students at any level. Student cost is $25. Registration and payment is due March 7th.  Please contact your teacher or use the Member Portal to register.
URL:https://fcmta.org/event/masterclass-with-dr-wallick/
LOCATION:CSU Runyan Hall\, 1400 Remington St\, Fort Collins\, Colorado
CATEGORIES:Student Programs
ORGANIZER;CN="FCMTA":MAILTO:info@fcmta.org
END:VEVENT
BEGIN:VEVENT
DTSTART;TZID=America/Denver:20240322T190000
DTEND;TZID=America/Denver:20240322T210000
DTSTAMP:20260423T155928
CREATED:20230808T173929Z
LAST-MODIFIED:20230903T015723Z
UID:793-1711134000-1711141200@fcmta.org
SUMMARY:Spring Adult Recital
DESCRIPTION:At the home of Jim and Lori Quillen\, 3633 Rocky Stream Drive\, 80528.
URL:https://fcmta.org/event/spring-adult-recital/
LOCATION:3633 Rocky Stream Drive\, 80528.
CATEGORIES:Recitals
ORGANIZER;CN="Allison Pietras":MAILTO:allisonhudak@hotmail.com
END:VEVENT
BEGIN:VEVENT
DTSTART;TZID=America/Denver:20240304T100000
DTEND;TZID=America/Denver:20240304T110000
DTSTAMP:20260423T155928
CREATED:20231009T151905Z
LAST-MODIFIED:20231009T151905Z
UID:956-1709546400-1709550000@fcmta.org
SUMMARY:Presentation by Karen Ziegler: Games and Activities for Group and Individual Lessons
DESCRIPTION:
URL:https://fcmta.org/event/presentation-by-karen-ziegler-games-and-activities-for-group-and-individual-lessons/
LOCATION:CO
CATEGORIES:Member Meeting
ORGANIZER;CN="FCMTA":MAILTO:info@fcmta.org
END:VEVENT
BEGIN:VEVENT
DTSTART;TZID=America/Denver:20240304T090000
DTEND;TZID=America/Denver:20240304T210000
DTSTAMP:20260423T155928
CREATED:20230621T210226Z
LAST-MODIFIED:20230621T210226Z
UID:763-1709542800-1709586000@fcmta.org
SUMMARY:General Meeting
DESCRIPTION:
URL:https://fcmta.org/event/general-meeting-14/
LOCATION:Trinity Lutheran Church\, 301 E Stuart\, Fort Collins\, CO\, 80525\, United States
CATEGORIES:General Meeting
ORGANIZER;CN="FCMTA":MAILTO:info@fcmta.org
END:VEVENT
BEGIN:VEVENT
DTSTART;VALUE=DATE:20240302
DTEND;VALUE=DATE:20240303
DTSTAMP:20260423T155928
CREATED:20230621T205325Z
LAST-MODIFIED:20240131T035601Z
UID:759-1709337600-1709423999@fcmta.org
SUMMARY:Student Achievement Day
DESCRIPTION:To register\, please contact your teacher.  For teachers\, please use the Member Portal to access registration forms and instructions.  For questions\, please use the Event Organizer’s contact info\, listed below.
URL:https://fcmta.org/event/student-achievement-day-2/
LOCATION:Front Range Community College\, 4616 S Shields St\, Fort Collins\, CO\, 80526\, United States
CATEGORIES:Student Programs
ATTACH;FMTTYPE=image/png:https://fcmta.org/wp-content/uploads/2023/06/StAD-2024.png
ORGANIZER;CN="Vanessa Felhauer":MAILTO:vanessa@created4r.com
END:VEVENT
BEGIN:VEVENT
DTSTART;TZID=America/Denver:20240223T190000
DTEND;TZID=America/Denver:20240223T190000
DTSTAMP:20260423T155928
CREATED:20230621T205142Z
LAST-MODIFIED:20230913T040904Z
UID:757-1708714800-1708714800@fcmta.org
SUMMARY:All Levels Recital
DESCRIPTION:
URL:https://fcmta.org/event/all-levels-recital-7/
LOCATION:Trinity Lutheran Church\, 301 E Stuart\, Fort Collins\, CO\, 80525\, United States
CATEGORIES:Recitals
ORGANIZER;CN="Jesse Pierson":MAILTO:jessepierson89@gmail.com
END:VEVENT
BEGIN:VEVENT
DTSTART;TZID=America/Denver:20240212T100000
DTEND;TZID=America/Denver:20240212T110000
DTSTAMP:20260423T155928
CREATED:20231009T151542Z
LAST-MODIFIED:20231009T151542Z
UID:954-1707732000-1707735600@fcmta.org
SUMMARY:Presentation by Joseph Harkins: Elementary and Intermediate Repertoire by Contemporary Asian Composers
DESCRIPTION:
URL:https://fcmta.org/event/presentation-by-joseph-harkins-elementary-and-intermediate-repertoire-by-contemporary-asian-composers/
LOCATION:Trinity Lutheran Church\, 301 E Stuart\, Fort Collins\, CO\, 80525\, United States
CATEGORIES:Member Meeting
ORGANIZER;CN="FCMTA":MAILTO:info@fcmta.org
END:VEVENT
BEGIN:VEVENT
DTSTART;TZID=America/Denver:20240212T090000
DTEND;TZID=America/Denver:20240212T090000
DTSTAMP:20260423T155928
CREATED:20230621T205021Z
LAST-MODIFIED:20230621T205021Z
UID:755-1707728400-1707728400@fcmta.org
SUMMARY:General Meeting
DESCRIPTION:
URL:https://fcmta.org/event/general-meeting-13/
LOCATION:Trinity Lutheran Church\, 301 E Stuart\, Fort Collins\, CO\, 80525\, United States
CATEGORIES:General Meeting
ORGANIZER;CN="FCMTA":MAILTO:info@fcmta.org
END:VEVENT
BEGIN:VEVENT
DTSTART;TZID=America/Denver:20240126T190000
DTEND;TZID=America/Denver:20240126T190000
DTSTAMP:20260423T155928
CREATED:20230621T204843Z
LAST-MODIFIED:20230621T204843Z
UID:753-1706295600-1706295600@fcmta.org
SUMMARY:Ensemble Recital
DESCRIPTION:
URL:https://fcmta.org/event/ensemble-recital-2/
LOCATION:Trinity Lutheran Church\, 301 E Stuart\, Fort Collins\, CO\, 80525\, United States
CATEGORIES:Recitals
END:VEVENT
BEGIN:VEVENT
DTSTART;TZID=America/Denver:20240123T090000
DTEND;TZID=America/Denver:20240123T090000
DTSTAMP:20260423T155928
CREATED:20230621T204736Z
LAST-MODIFIED:20230918T160107Z
UID:751-1706000400-1706000400@fcmta.org
SUMMARY:Board Meeting
DESCRIPTION:
URL:https://fcmta.org/event/board-meeting-5/
LOCATION:Home of Carrie Hansen\, NA\, Fort Collins\, CO\, 80524\, United States
CATEGORIES:Board Meeting
ORGANIZER;CN="FCMTA":MAILTO:info@fcmta.org
END:VEVENT
BEGIN:VEVENT
DTSTART;TZID=America/Denver:20240108T100000
DTEND;TZID=America/Denver:20240108T110000
DTSTAMP:20260423T155928
CREATED:20231009T151034Z
LAST-MODIFIED:20231009T152740Z
UID:952-1704708000-1704711600@fcmta.org
SUMMARY:Reading Specialist Presentation by Mary Carter
DESCRIPTION:
URL:https://fcmta.org/event/reading-specialist-presentation-by-mary-carter/
LOCATION:Trinity Lutheran Church\, 301 E Stuart\, Fort Collins\, CO\, 80525\, United States
CATEGORIES:Member Meeting
ORGANIZER;CN="FCMTA":MAILTO:info@fcmta.org
END:VEVENT
BEGIN:VEVENT
DTSTART;TZID=America/Denver:20240108T090000
DTEND;TZID=America/Denver:20240108T210000
DTSTAMP:20260423T155928
CREATED:20230621T204614Z
LAST-MODIFIED:20230621T204614Z
UID:749-1704704400-1704747600@fcmta.org
SUMMARY:General Meeting
DESCRIPTION:
URL:https://fcmta.org/event/general-meeting-12/
LOCATION:Trinity Lutheran Church\, 301 E Stuart\, Fort Collins\, CO\, 80525\, United States
CATEGORIES:General Meeting
END:VEVENT
BEGIN:VEVENT
DTSTART;TZID=America/Denver:20231209T100000
DTEND;TZID=America/Denver:20231209T140000
DTSTAMP:20260423T155928
CREATED:20230930T154642Z
LAST-MODIFIED:20230930T154919Z
UID:926-1702116000-1702130400@fcmta.org
SUMMARY:Holiday Play-a-thon
DESCRIPTION:
URL:https://fcmta.org/event/holiday-play-a-thon/
LOCATION:Fort Collins Barnes and Noble\, 4045 S. College\, Fort Collins\, Colorado
CATEGORIES:Student Programs
ORGANIZER;CN="Sonia Haxton Tressler":MAILTO:soniahaxton@gmail.com
END:VEVENT
BEGIN:VEVENT
DTSTART;TZID=America/Denver:20231113T100000
DTEND;TZID=America/Denver:20231113T230000
DTSTAMP:20260423T155928
CREATED:20231009T150708Z
LAST-MODIFIED:20231025T162906Z
UID:950-1699869600-1699916400@fcmta.org
SUMMARY:Our Best Teacher Challenges and Tips For Sharing
DESCRIPTION:Bring Your Thoughts to Share with Fellow FCMTA Teachers in a Group Discussion. \n\nWhat motivates your students?\nWhat is and isn’t working?\nHave you updated your policies lately?\nHow do you teach your “I forgot my music” lessons?\nWhat are Asynchronous Lessons?  Are they a solution to missed lessons?\nYour favorite teacher resources\, references\, inspiration\, reading books….\nWhat are you learning and playing for yourself right now?
URL:https://fcmta.org/event/teacher-panel-discussion/
LOCATION:Trinity Lutheran Church\, 301 E Stuart\, Fort Collins\, CO\, 80525\, United States
CATEGORIES:Member Meeting
ORGANIZER;CN="FCMTA":MAILTO:info@fcmta.org
END:VEVENT
BEGIN:VEVENT
DTSTART;TZID=America/Denver:20231113T090000
DTEND;TZID=America/Denver:20231113T210000
DTSTAMP:20260423T155928
CREATED:20230621T202938Z
LAST-MODIFIED:20230621T203132Z
UID:746-1699866000-1699909200@fcmta.org
SUMMARY:General Meeting
DESCRIPTION:
URL:https://fcmta.org/event/general-meeting-11/
LOCATION:Trinity Lutheran Church\, 301 E Stuart\, Fort Collins\, CO\, 80525\, United States
CATEGORIES:General Meeting
END:VEVENT
BEGIN:VEVENT
DTSTART;VALUE=DATE:20231111
DTEND;VALUE=DATE:20231112
DTSTAMP:20260423T155928
CREATED:20230621T202812Z
LAST-MODIFIED:20230911T155342Z
UID:744-1699660800-1699747199@fcmta.org
SUMMARY:Fall Festival
DESCRIPTION:
URL:https://fcmta.org/event/fall-festival-2/
LOCATION:Front Range Community College\, 4616 S Shields St\, Fort Collins\, CO\, 80526\, United States
CATEGORIES:Student Programs
ORGANIZER;CN="Silvana Satinelli":MAILTO:silvanasantinelli@gmail.com
END:VEVENT
BEGIN:VEVENT
DTSTART;TZID=America/Denver:20231103T190000
DTEND;TZID=America/Denver:20231103T210000
DTSTAMP:20260423T155928
CREATED:20230808T171308Z
LAST-MODIFIED:20230903T015649Z
UID:786-1699038000-1699045200@fcmta.org
SUMMARY:Adult Fall Recital
DESCRIPTION:At the home of Jim and Lori Quillen\, 3633 Rocky Stream Drive\, 80528.
URL:https://fcmta.org/event/adult-fall-recital/
LOCATION:3633 Rocky Stream Drive\, 80528.
CATEGORIES:Recitals
ORGANIZER;CN="Allison Pietras":MAILTO:allisonhudak@hotmail.com
END:VEVENT
BEGIN:VEVENT
DTSTART;TZID=America/Denver:20231103T190000
DTEND;TZID=America/Denver:20231103T200000
DTSTAMP:20260423T155928
CREATED:20230817T221856Z
LAST-MODIFIED:20230917T214006Z
UID:805-1699038000-1699041600@fcmta.org
SUMMARY:All Levels Recital
DESCRIPTION:
URL:https://fcmta.org/event/all-levels-recital-6/
LOCATION:Trinity Lutheran Church\, 301 E Stuart\, Fort Collins\, CO\, 80525\, United States
CATEGORIES:Recitals
ORGANIZER;CN="Jesse Pierson":MAILTO:jessepierson89@gmail.com
END:VEVENT
BEGIN:VEVENT
DTSTART;TZID=America/Denver:20231029T153000
DTEND;TZID=America/Denver:20231029T163000
DTSTAMP:20260423T155928
CREATED:20230903T010940Z
LAST-MODIFIED:20230917T214019Z
UID:815-1698593400-1698597000@fcmta.org
SUMMARY:Halloween Recital - Collinwood Assisted Living
DESCRIPTION:Students are encouraged to wear costumes and can play spooky music. Memorization not required. Students will get a piece or candy or small prize afterwards. Cost is free. Limit to 20 students.\nStudents are encouraged to bring a can of food to donate to the Larimer County Food Bank. Contact Carrie Hansen at carrieandbruce2001@yahoo.com with questions.
URL:https://fcmta.org/event/halloween-recital-10-29/
LOCATION:Collinwood Assisted Living\, 5055 S Lemay Ave\, Fort Collins\, Colorado
CATEGORIES:Recitals
ORGANIZER;CN="Carrie Hansen":MAILTO:Carrieandbruce2001@yahoo.com
END:VEVENT
BEGIN:VEVENT
DTSTART;TZID=America/Denver:20231029T140000
DTEND;TZID=America/Denver:20231029T150000
DTSTAMP:20260423T155928
CREATED:20230917T213801Z
LAST-MODIFIED:20230917T214057Z
UID:902-1698588000-1698591600@fcmta.org
SUMMARY:Halloween Recital - Morning Star Assisted Living
DESCRIPTION:Students are encouraged to wear costumes and can play spooky music. Memorization not required. Students will get a piece or candy or small prize afterwards. Cost is free. Limit to 20 students.\nStudents are encouraged to bring a can of food to donate to the Larimer County Food Bank. Contact Carrie Hansen at carrieandbruce2001@yahoo.com with questions. \n 
URL:https://fcmta.org/event/halloween-recital-morning-star-assisted-living/
LOCATION:Morning Star Assisted Living\, 3509 Lochwood Dr\, Fort Collins\, CO\, 80525
CATEGORIES:Recitals
ORGANIZER;CN="Carrie Hansen":MAILTO:Carrieandbruce2001@yahoo.com
END:VEVENT
BEGIN:VEVENT
DTSTART;TZID=America/Denver:20231028T140000
DTEND;TZID=America/Denver:20231028T150000
DTSTAMP:20260423T155928
CREATED:20230621T202146Z
LAST-MODIFIED:20230917T214112Z
UID:738-1698501600-1698505200@fcmta.org
SUMMARY:Halloween Recital - Rigden Farm
DESCRIPTION:Students are encouraged to wear costumes and can play spooky music. Memorization not required. Students will get a piece or candy or small prize afterwards. Cost is free. Limit to 20 students.\nStudents are encouraged to bring a can of food to donate to the Larimer County Food Bank. Contact Carrie Hansen at carrieandbruce2001@yahoo.com with questions.
URL:https://fcmta.org/event/halloween-recital/
LOCATION:Rigden Farm Senior Living 2350 Limon Dr\, 2350 Limon Dr\, Fort Collins\, Colorado
CATEGORIES:Recitals
ORGANIZER;CN="Carrie Hansen":MAILTO:Carrieandbruce2001@yahoo.com
END:VEVENT
END:VCALENDAR