BEGIN:VCALENDAR
VERSION:2.0
PRODID:-//Fort Collins Music Teachers Association - ECPv6.15.20//NONSGML v1.0//EN
CALSCALE:GREGORIAN
METHOD:PUBLISH
X-WR-CALNAME:Fort Collins Music Teachers Association
X-ORIGINAL-URL:https://fcmta.org
X-WR-CALDESC:Events for Fort Collins Music Teachers Association
REFRESH-INTERVAL;VALUE=DURATION:PT1H
X-Robots-Tag:noindex
X-PUBLISHED-TTL:PT1H
BEGIN:VTIMEZONE
TZID:America/Denver
BEGIN:DAYLIGHT
TZOFFSETFROM:-0700
TZOFFSETTO:-0600
TZNAME:MDT
DTSTART:20210314T090000
END:DAYLIGHT
BEGIN:STANDARD
TZOFFSETFROM:-0600
TZOFFSETTO:-0700
TZNAME:MST
DTSTART:20211107T080000
END:STANDARD
BEGIN:DAYLIGHT
TZOFFSETFROM:-0700
TZOFFSETTO:-0600
TZNAME:MDT
DTSTART:20220313T090000
END:DAYLIGHT
BEGIN:STANDARD
TZOFFSETFROM:-0600
TZOFFSETTO:-0700
TZNAME:MST
DTSTART:20221106T080000
END:STANDARD
BEGIN:DAYLIGHT
TZOFFSETFROM:-0700
TZOFFSETTO:-0600
TZNAME:MDT
DTSTART:20230312T090000
END:DAYLIGHT
BEGIN:STANDARD
TZOFFSETFROM:-0600
TZOFFSETTO:-0700
TZNAME:MST
DTSTART:20231105T080000
END:STANDARD
BEGIN:DAYLIGHT
TZOFFSETFROM:-0700
TZOFFSETTO:-0600
TZNAME:MDT
DTSTART:20240310T090000
END:DAYLIGHT
BEGIN:STANDARD
TZOFFSETFROM:-0600
TZOFFSETTO:-0700
TZNAME:MST
DTSTART:20241103T080000
END:STANDARD
END:VTIMEZONE
BEGIN:VEVENT
DTSTART;TZID=America/Denver:20230306T100000
DTEND;TZID=America/Denver:20230306T110000
DTSTAMP:20260424T063701
CREATED:20230108T193214Z
LAST-MODIFIED:20230108T193214Z
UID:693-1678096800-1678100400@fcmta.org
SUMMARY:Mary Carter: Elementary Reading Specialist
DESCRIPTION:
URL:https://fcmta.org/event/mary-carter-elementary-reading-specialist/
LOCATION:Trinity Lutheran Church\, 301 E Stuart\, Fort Collins\, CO\, 80525\, United States
CATEGORIES:Member Meeting
END:VEVENT
BEGIN:VEVENT
DTSTART;TZID=America/Denver:20230306T090000
DTEND;TZID=America/Denver:20230306T100000
DTSTAMP:20260424T063701
CREATED:20220930T234616Z
LAST-MODIFIED:20220930T234616Z
UID:468-1678093200-1678096800@fcmta.org
SUMMARY:General Meeting
DESCRIPTION:FCMTA – Membership Meetings & Events
URL:https://fcmta.org/event/general-meeting-6/
LOCATION:Trinity Lutheran Church\, 301 E Stuart\, Fort Collins\, CO\, 80525\, United States
CATEGORIES:General Meeting
ATTACH;FMTTYPE=image/jpeg:https://fcmta.org/wp-content/uploads/2022/09/event-graphic-member-meeting-whBrOF.tmp_.jpg
ORGANIZER;CN="FCMTA":MAILTO:info@fcmta.org
END:VEVENT
BEGIN:VEVENT
DTSTART;VALUE=DATE:20230304
DTEND;VALUE=DATE:20230305
DTSTAMP:20260424T063701
CREATED:20220930T234616Z
LAST-MODIFIED:20220930T234616Z
UID:467-1677888000-1677974399@fcmta.org
SUMMARY:Student Achievement Day
DESCRIPTION:FCMTA – Public Events / Student Programs
URL:https://fcmta.org/event/student-achievement-day/
LOCATION:Front Range Community College\, 4616 S Shields St\, Fort Collins\, CO\, 80526\, United States
CATEGORIES:Student Programs
ATTACH;FMTTYPE=image/jpeg:https://fcmta.org/wp-content/uploads/2022/09/event-graphic-student-programs-DMFdKF.tmp_.jpg
ORGANIZER;CN="FCMTA":MAILTO:info@fcmta.org
END:VEVENT
BEGIN:VEVENT
DTSTART;TZID=America/Denver:20230217T190000
DTEND;TZID=America/Denver:20230217T190000
DTSTAMP:20260424T063701
CREATED:20220930T234615Z
LAST-MODIFIED:20220930T234615Z
UID:466-1676660400-1676660400@fcmta.org
SUMMARY:All Levels Recital
DESCRIPTION:FCMTA – Public Events / Student Programs
URL:https://fcmta.org/event/all-levels-recital-3/
LOCATION:Trinity Lutheran Church\, 301 E Stuart\, Fort Collins\, CO\, 80525\, United States
CATEGORIES:Student Programs
ATTACH;FMTTYPE=image/jpeg:https://fcmta.org/wp-content/uploads/2022/09/event-graphic-student-programs-DMFdKF.tmp_.jpg
ORGANIZER;CN="FCMTA":MAILTO:info@fcmta.org
END:VEVENT
BEGIN:VEVENT
DTSTART;TZID=America/Denver:20230213T100000
DTEND;TZID=America/Denver:20230213T110000
DTSTAMP:20260424T063701
CREATED:20230108T193029Z
LAST-MODIFIED:20230108T193029Z
UID:691-1676282400-1676286000@fcmta.org
SUMMARY:FCMTA Discussion Group: Women and Underrepresented Composers.
DESCRIPTION:Bring any level material you have collected on this topic.
URL:https://fcmta.org/event/fcmta-discussion-group-women-and-underrepresented-composers/
LOCATION:Trinity Lutheran Church\, 301 E Stuart\, Fort Collins\, CO\, 80525\, United States
CATEGORIES:Member Meeting
END:VEVENT
BEGIN:VEVENT
DTSTART;TZID=America/Denver:20230213T090000
DTEND;TZID=America/Denver:20230213T100000
DTSTAMP:20260424T063701
CREATED:20220930T234615Z
LAST-MODIFIED:20220930T234615Z
UID:465-1676278800-1676282400@fcmta.org
SUMMARY:General Meeting
DESCRIPTION:FCMTA – Membership Meetings & Events
URL:https://fcmta.org/event/general-meeting-5/
LOCATION:Trinity Lutheran Church\, 301 E Stuart\, Fort Collins\, CO\, 80525\, United States
CATEGORIES:General Meeting
ATTACH;FMTTYPE=image/jpeg:https://fcmta.org/wp-content/uploads/2022/09/event-graphic-member-meeting-whBrOF.tmp_.jpg
ORGANIZER;CN="FCMTA":MAILTO:info@fcmta.org
END:VEVENT
BEGIN:VEVENT
DTSTART;VALUE=DATE:20230127
DTEND;VALUE=DATE:20230128
DTSTAMP:20260424T063701
CREATED:20220930T234614Z
LAST-MODIFIED:20220930T234614Z
UID:464-1674777600-1674863999@fcmta.org
SUMMARY:Ensemble Recital
DESCRIPTION:FCMTA – Public Events / Student Programs
URL:https://fcmta.org/event/ensemble-recital/
LOCATION:Trinity Lutheran Church\, 301 E Stuart\, Fort Collins\, CO\, 80525\, United States
CATEGORIES:Student Programs
ATTACH;FMTTYPE=image/jpeg:https://fcmta.org/wp-content/uploads/2022/09/event-graphic-student-programs-DMFdKF.tmp_.jpg
ORGANIZER;CN="FCMTA":MAILTO:info@fcmta.org
END:VEVENT
BEGIN:VEVENT
DTSTART;TZID=America/Denver:20230116T090000
DTEND;TZID=America/Denver:20230116T100000
DTSTAMP:20260424T063701
CREATED:20220930T234521Z
LAST-MODIFIED:20220930T234521Z
UID:463-1673859600-1673863200@fcmta.org
SUMMARY:Board Meeting
DESCRIPTION:FCMTA – Membership Meetings & Events
URL:https://fcmta.org/event/board-meeting-2/
LOCATION:Home of Carrie Hansen\, NA\, Fort Collins\, CO\, 80524\, United States
CATEGORIES:Board Meeting
ATTACH;FMTTYPE=image/jpeg:https://fcmta.org/wp-content/uploads/2022/09/event-graphic-member-meeting-whBrOF.tmp_.jpg
ORGANIZER;CN="FCMTA":MAILTO:info@fcmta.org
END:VEVENT
BEGIN:VEVENT
DTSTART;TZID=America/Denver:20230109T100000
DTEND;TZID=America/Denver:20230109T110000
DTSTAMP:20260424T063701
CREATED:20230108T192635Z
LAST-MODIFIED:20230108T192635Z
UID:689-1673258400-1673262000@fcmta.org
SUMMARY:Bill Harned - Performance Practice of Misalignment in Stylized Compositions of the Haitian Meringue
DESCRIPTION:
URL:https://fcmta.org/event/bill-harned-performance-practice-of-misalignment-in-stylized-compositions-of-the-haitian-meringue/
LOCATION:Trinity Lutheran Church\, 301 E Stuart\, Fort Collins\, CO\, 80525\, United States
CATEGORIES:Member Meeting
END:VEVENT
BEGIN:VEVENT
DTSTART;TZID=America/Denver:20230109T090000
DTEND;TZID=America/Denver:20230109T100000
DTSTAMP:20260424T063701
CREATED:20220930T234521Z
LAST-MODIFIED:20220930T234521Z
UID:462-1673254800-1673258400@fcmta.org
SUMMARY:General Meeting
DESCRIPTION:FCMTA – Membership Meetings & Events
URL:https://fcmta.org/event/general-meeting-4/
LOCATION:Trinity Lutheran Church\, 301 E Stuart\, Fort Collins\, CO\, 80525\, United States
CATEGORIES:General Meeting
ATTACH;FMTTYPE=image/jpeg:https://fcmta.org/wp-content/uploads/2022/09/event-graphic-member-meeting-whBrOF.tmp_.jpg
ORGANIZER;CN="FCMTA":MAILTO:info@fcmta.org
END:VEVENT
BEGIN:VEVENT
DTSTART;VALUE=DATE:20221210
DTEND;VALUE=DATE:20221211
DTSTAMP:20260424T063701
CREATED:20220930T234520Z
LAST-MODIFIED:20220930T234520Z
UID:461-1670630400-1670716799@fcmta.org
SUMMARY:Christmas Playathon
DESCRIPTION:FCMTA – Public Events / Student Programs
URL:https://fcmta.org/event/christmas-playathon/
LOCATION:Barnes and Noble\, 4045 S College Ave\, Fort Collins\, CO\, 80525\, United States
CATEGORIES:Student Programs
ATTACH;FMTTYPE=image/jpeg:https://fcmta.org/wp-content/uploads/2022/09/event-graphic-student-programs-DMFdKF.tmp_.jpg
ORGANIZER;CN="FCMTA":MAILTO:info@fcmta.org
END:VEVENT
BEGIN:VEVENT
DTSTART;TZID=America/Denver:20221114T090000
DTEND;TZID=America/Denver:20221114T100000
DTSTAMP:20260424T063701
CREATED:20220930T234519Z
LAST-MODIFIED:20220930T234519Z
UID:460-1668416400-1668420000@fcmta.org
SUMMARY:General Meeting
DESCRIPTION:FCMTA – Membership Meetings & Events
URL:https://fcmta.org/event/general-meeting-3/
LOCATION:Trinity Lutheran Church\, 301 E Stuart\, Fort Collins\, CO\, 80525\, United States
CATEGORIES:General Meeting
ATTACH;FMTTYPE=image/jpeg:https://fcmta.org/wp-content/uploads/2022/09/event-graphic-member-meeting-whBrOF.tmp_.jpg
ORGANIZER;CN="FCMTA":MAILTO:info@fcmta.org
END:VEVENT
BEGIN:VEVENT
DTSTART;VALUE=DATE:20221112
DTEND;VALUE=DATE:20221113
DTSTAMP:20260424T063701
CREATED:20220930T234519Z
LAST-MODIFIED:20221007T161705Z
UID:459-1668211200-1668297599@fcmta.org
SUMMARY:Fall Festival
DESCRIPTION:FCMTA – Public Events / Student Programs
URL:https://fcmta.org/event/fall-festival/
LOCATION:Front Range Community College\, 4616 S Shields St\, Fort Collins\, CO\, 80526\, United States
CATEGORIES:Student Programs
ATTACH;FMTTYPE=image/jpeg:https://fcmta.org/wp-content/uploads/2022/09/event-graphic-student-programs-DMFdKF.tmp_.jpg
ORGANIZER;CN="FCMTA":MAILTO:info@fcmta.org
END:VEVENT
BEGIN:VEVENT
DTSTART;TZID=America/Denver:20221104T190000
DTEND;TZID=America/Denver:20221104T210000
DTSTAMP:20260424T063701
CREATED:20220930T234408Z
LAST-MODIFIED:20221021T165141Z
UID:455-1667588400-1667595600@fcmta.org
SUMMARY:Adult Recital
DESCRIPTION:FCMTA – Public Events / Student Programs
URL:https://fcmta.org/event/adult-recital/
LOCATION:Home of Jim and Lori Quillen\, 3633 Rocky Stream Drive\, Fort Collins\, CO\, 80528\, United States
CATEGORIES:General Meeting
ATTACH;FMTTYPE=image/jpeg:https://fcmta.org/wp-content/uploads/2022/09/event-graphic-student-programs-DMFdKF.tmp_.jpg
ORGANIZER;CN="FCMTA":MAILTO:info@fcmta.org
END:VEVENT
BEGIN:VEVENT
DTSTART;TZID=America/Denver:20221104T190000
DTEND;TZID=America/Denver:20221104T190000
DTSTAMP:20260424T063701
CREATED:20220930T234408Z
LAST-MODIFIED:20220930T234408Z
UID:456-1667588400-1667588400@fcmta.org
SUMMARY:All Levels Recital
DESCRIPTION:FCMTA – Public Events / Student Programs
URL:https://fcmta.org/event/all-levels-recital-2/
LOCATION:Trinity Lutheran Church\, 301 E Stuart\, Fort Collins\, CO\, 80525\, United States
CATEGORIES:Student Programs
ATTACH;FMTTYPE=image/jpeg:https://fcmta.org/wp-content/uploads/2022/09/event-graphic-student-programs-DMFdKF.tmp_.jpg
ORGANIZER;CN="FCMTA":MAILTO:info@fcmta.org
END:VEVENT
BEGIN:VEVENT
DTSTART;TZID=America/Denver:20221030T120000
DTEND;TZID=America/Denver:20221030T120000
DTSTAMP:20260424T063701
CREATED:20220930T234407Z
LAST-MODIFIED:20220930T234407Z
UID:452-1667131200-1667131200@fcmta.org
SUMMARY:Halloween Recitals: Oak Street Plaza
DESCRIPTION:FCMTA – Public Events / Student Programs
URL:https://fcmta.org/event/halloween-recitals-oak-street-plaza-2/
LOCATION:Oak Street Plaza\, 119 W Oak St\, Fort Collins\, CO\, 80524\, United States
CATEGORIES:Student Programs
ATTACH;FMTTYPE=image/jpeg:https://fcmta.org/wp-content/uploads/2022/09/event-graphic-student-programs-DMFdKF.tmp_.jpg
ORGANIZER;CN="FCMTA":MAILTO:info@fcmta.org
END:VEVENT
BEGIN:VEVENT
DTSTART;TZID=America/Denver:20221030T120000
DTEND;TZID=America/Denver:20221030T120000
DTSTAMP:20260424T063701
CREATED:20220930T234407Z
LAST-MODIFIED:20220930T234407Z
UID:454-1667131200-1667131200@fcmta.org
SUMMARY:Halloween Recitals: Old Town Library
DESCRIPTION:FCMTA – Public Events / Student Programs
URL:https://fcmta.org/event/halloween-recitals-old-town-library-2/
LOCATION:Old Town Library\, 201 Peterson St\, Fort Collins\, CO\, 80524\, United States
CATEGORIES:Student Programs
ATTACH;FMTTYPE=image/jpeg:https://fcmta.org/wp-content/uploads/2022/09/event-graphic-student-programs-DMFdKF.tmp_.jpg
ORGANIZER;CN="FCMTA":MAILTO:info@fcmta.org
END:VEVENT
BEGIN:VEVENT
DTSTART;TZID=America/Denver:20221029T100000
DTEND;TZID=America/Denver:20221029T100000
DTSTAMP:20260424T063701
CREATED:20220930T234407Z
LAST-MODIFIED:20220930T234407Z
UID:453-1667037600-1667037600@fcmta.org
SUMMARY:Halloween Recitals: Old Town Library
DESCRIPTION:FCMTA – Public Events / Student Programs
URL:https://fcmta.org/event/halloween-recitals-old-town-library/
LOCATION:Old Town Library\, 201 Peterson St\, Fort Collins\, CO\, 80524\, United States
CATEGORIES:Student Programs
ATTACH;FMTTYPE=image/jpeg:https://fcmta.org/wp-content/uploads/2022/09/event-graphic-student-programs-DMFdKF.tmp_.jpg
ORGANIZER;CN="FCMTA":MAILTO:info@fcmta.org
END:VEVENT
BEGIN:VEVENT
DTSTART;TZID=America/Denver:20221029T100000
DTEND;TZID=America/Denver:20221029T100000
DTSTAMP:20260424T063701
CREATED:20220930T234405Z
LAST-MODIFIED:20220930T234405Z
UID:451-1667037600-1667037600@fcmta.org
SUMMARY:Halloween Recitals: Oak Street Plaza
DESCRIPTION:FCMTA – Public Events / Student Programs
URL:https://fcmta.org/event/halloween-recitals-oak-street-plaza/
LOCATION:Oak Street Plaza\, 119 W Oak St\, Fort Collins\, CO\, 80524\, United States
CATEGORIES:Student Programs
ATTACH;FMTTYPE=image/jpeg:https://fcmta.org/wp-content/uploads/2022/09/event-graphic-student-programs-DMFdKF.tmp_.jpg
ORGANIZER;CN="FCMTA":MAILTO:info@fcmta.org
END:VEVENT
BEGIN:VEVENT
DTSTART;TZID=America/Denver:20221021T190000
DTEND;TZID=America/Denver:20221021T190000
DTSTAMP:20260424T063701
CREATED:20220930T234405Z
LAST-MODIFIED:20220930T234405Z
UID:450-1666378800-1666378800@fcmta.org
SUMMARY:All Levels Recital
DESCRIPTION:FCMTA – Public Events / Student Programs
URL:https://fcmta.org/event/all-levels-recital/
LOCATION:Trinity Lutheran Church\, 301 E Stuart\, Fort Collins\, CO\, 80525\, United States
CATEGORIES:Student Programs
ATTACH;FMTTYPE=image/jpeg:https://fcmta.org/wp-content/uploads/2022/09/event-graphic-student-programs-DMFdKF.tmp_.jpg
ORGANIZER;CN="FCMTA":MAILTO:info@fcmta.org
END:VEVENT
BEGIN:VEVENT
DTSTART;TZID=America/Denver:20221010T090000
DTEND;TZID=America/Denver:20221010T100000
DTSTAMP:20260424T063701
CREATED:20220930T234404Z
LAST-MODIFIED:20220930T234404Z
UID:449-1665392400-1665396000@fcmta.org
SUMMARY:General Meeting
DESCRIPTION:FCMTA – Membership Meetings & Events
URL:https://fcmta.org/event/general-meeting-2/
LOCATION:Trinity Lutheran Church\, 301 E Stuart\, Fort Collins\, CO\, 80525\, United States
CATEGORIES:General Meeting
ATTACH;FMTTYPE=image/jpeg:https://fcmta.org/wp-content/uploads/2022/09/event-graphic-member-meeting-whBrOF.tmp_.jpg
ORGANIZER;CN="FCMTA":MAILTO:info@fcmta.org
END:VEVENT
BEGIN:VEVENT
DTSTART;TZID=America/Denver:20220919T090000
DTEND;TZID=America/Denver:20220919T100000
DTSTAMP:20260424T063701
CREATED:20220930T234403Z
LAST-MODIFIED:20220930T234403Z
UID:448-1663578000-1663581600@fcmta.org
SUMMARY:Board Meeting
DESCRIPTION:FCMTA – Membership Meetings & Events
URL:https://fcmta.org/event/board-meeting/
LOCATION:Home of Carrie Hansen\, NA\, Fort Collins\, CO\, 80524\, United States
CATEGORIES:Board Meeting
ATTACH;FMTTYPE=image/jpeg:https://fcmta.org/wp-content/uploads/2022/09/event-graphic-member-meeting-whBrOF.tmp_.jpg
ORGANIZER;CN="FCMTA":MAILTO:info@fcmta.org
END:VEVENT
BEGIN:VEVENT
DTSTART;TZID=America/Denver:20220912T090000
DTEND;TZID=America/Denver:20220912T100000
DTSTAMP:20260424T063701
CREATED:20220930T234403Z
LAST-MODIFIED:20220930T234403Z
UID:447-1662973200-1662976800@fcmta.org
SUMMARY:General Meeting
DESCRIPTION:FCMTA – Membership Meetings & Events
URL:https://fcmta.org/event/general-meeting/
LOCATION:Front Range Community College\, 4616 S Shields St\, Fort Collins\, CO\, 80526\, United States
CATEGORIES:General Meeting
ATTACH;FMTTYPE=image/jpeg:https://fcmta.org/wp-content/uploads/2022/09/event-graphic-member-meeting-whBrOF.tmp_.jpg
ORGANIZER;CN="FCMTA":MAILTO:info@fcmta.org
END:VEVENT
END:VCALENDAR