BEGIN:VCALENDAR
VERSION:2.0
PRODID:-//Fort Collins Music Teachers Association - ECPv6.15.20//NONSGML v1.0//EN
CALSCALE:GREGORIAN
METHOD:PUBLISH
X-ORIGINAL-URL:https://fcmta.org
X-WR-CALDESC:Events for Fort Collins Music Teachers Association
REFRESH-INTERVAL;VALUE=DURATION:PT1H
X-Robots-Tag:noindex
X-PUBLISHED-TTL:PT1H
BEGIN:VTIMEZONE
TZID:America/Denver
BEGIN:DAYLIGHT
TZOFFSETFROM:-0700
TZOFFSETTO:-0600
TZNAME:MDT
DTSTART:20230312T090000
END:DAYLIGHT
BEGIN:STANDARD
TZOFFSETFROM:-0600
TZOFFSETTO:-0700
TZNAME:MST
DTSTART:20231105T080000
END:STANDARD
BEGIN:DAYLIGHT
TZOFFSETFROM:-0700
TZOFFSETTO:-0600
TZNAME:MDT
DTSTART:20240310T090000
END:DAYLIGHT
BEGIN:STANDARD
TZOFFSETFROM:-0600
TZOFFSETTO:-0700
TZNAME:MST
DTSTART:20241103T080000
END:STANDARD
BEGIN:DAYLIGHT
TZOFFSETFROM:-0700
TZOFFSETTO:-0600
TZNAME:MDT
DTSTART:20250309T090000
END:DAYLIGHT
BEGIN:STANDARD
TZOFFSETFROM:-0600
TZOFFSETTO:-0700
TZNAME:MST
DTSTART:20251102T080000
END:STANDARD
END:VTIMEZONE
BEGIN:VEVENT
DTSTART;TZID=America/Denver:20240108T090000
DTEND;TZID=America/Denver:20240108T210000
DTSTAMP:20260424T213916
CREATED:20230621T204614Z
LAST-MODIFIED:20230621T204614Z
UID:749-1704704400-1704747600@fcmta.org
SUMMARY:General Meeting
DESCRIPTION:
URL:https://fcmta.org/event/general-meeting-12/
LOCATION:Trinity Lutheran Church\, 301 E Stuart\, Fort Collins\, CO\, 80525\, United States
CATEGORIES:General Meeting
END:VEVENT
BEGIN:VEVENT
DTSTART;TZID=America/Denver:20240108T100000
DTEND;TZID=America/Denver:20240108T110000
DTSTAMP:20260424T213916
CREATED:20231009T151034Z
LAST-MODIFIED:20231009T152740Z
UID:952-1704708000-1704711600@fcmta.org
SUMMARY:Reading Specialist Presentation by Mary Carter
DESCRIPTION:
URL:https://fcmta.org/event/reading-specialist-presentation-by-mary-carter/
LOCATION:Trinity Lutheran Church\, 301 E Stuart\, Fort Collins\, CO\, 80525\, United States
CATEGORIES:Member Meeting
ORGANIZER;CN="FCMTA":MAILTO:info@fcmta.org
END:VEVENT
BEGIN:VEVENT
DTSTART;TZID=America/Denver:20240123T090000
DTEND;TZID=America/Denver:20240123T090000
DTSTAMP:20260424T213916
CREATED:20230621T204736Z
LAST-MODIFIED:20230918T160107Z
UID:751-1706000400-1706000400@fcmta.org
SUMMARY:Board Meeting
DESCRIPTION:
URL:https://fcmta.org/event/board-meeting-5/
LOCATION:Home of Carrie Hansen\, NA\, Fort Collins\, CO\, 80524\, United States
CATEGORIES:Board Meeting
ORGANIZER;CN="FCMTA":MAILTO:info@fcmta.org
END:VEVENT
BEGIN:VEVENT
DTSTART;TZID=America/Denver:20240126T190000
DTEND;TZID=America/Denver:20240126T190000
DTSTAMP:20260424T213916
CREATED:20230621T204843Z
LAST-MODIFIED:20230621T204843Z
UID:753-1706295600-1706295600@fcmta.org
SUMMARY:Ensemble Recital
DESCRIPTION:
URL:https://fcmta.org/event/ensemble-recital-2/
LOCATION:Trinity Lutheran Church\, 301 E Stuart\, Fort Collins\, CO\, 80525\, United States
CATEGORIES:Recitals
END:VEVENT
END:VCALENDAR