BEGIN:VCALENDAR
VERSION:2.0
PRODID:-//Fort Collins Music Teachers Association - ECPv6.15.20//NONSGML v1.0//EN
CALSCALE:GREGORIAN
METHOD:PUBLISH
X-WR-CALNAME:Fort Collins Music Teachers Association
X-ORIGINAL-URL:https://fcmta.org
X-WR-CALDESC:Events for Fort Collins Music Teachers Association
REFRESH-INTERVAL;VALUE=DURATION:PT1H
X-Robots-Tag:noindex
X-PUBLISHED-TTL:PT1H
BEGIN:VTIMEZONE
TZID:America/Denver
BEGIN:DAYLIGHT
TZOFFSETFROM:-0700
TZOFFSETTO:-0600
TZNAME:MDT
DTSTART:20240310T090000
END:DAYLIGHT
BEGIN:STANDARD
TZOFFSETFROM:-0600
TZOFFSETTO:-0700
TZNAME:MST
DTSTART:20241103T080000
END:STANDARD
BEGIN:DAYLIGHT
TZOFFSETFROM:-0700
TZOFFSETTO:-0600
TZNAME:MDT
DTSTART:20250309T090000
END:DAYLIGHT
BEGIN:STANDARD
TZOFFSETFROM:-0600
TZOFFSETTO:-0700
TZNAME:MST
DTSTART:20251102T080000
END:STANDARD
BEGIN:DAYLIGHT
TZOFFSETFROM:-0700
TZOFFSETTO:-0600
TZNAME:MDT
DTSTART:20260308T090000
END:DAYLIGHT
BEGIN:STANDARD
TZOFFSETFROM:-0600
TZOFFSETTO:-0700
TZNAME:MST
DTSTART:20261101T080000
END:STANDARD
END:VTIMEZONE
BEGIN:VEVENT
DTSTART;TZID=America/Denver:20250113T090000
DTEND;TZID=America/Denver:20250113T110000
DTSTAMP:20260424T053023
CREATED:20241008T024630Z
LAST-MODIFIED:20241008T025417Z
UID:1280-1736758800-1736766000@fcmta.org
SUMMARY:General Meeting and Program
DESCRIPTION:General Meeting – 9:00 AM \nProgram Time – 10:00 AM \nProgram Title: “Working with Students on Chamber Music and New Music” \nPresenter: Ava Pacheco
URL:https://fcmta.org/event/general-meeting-and-program-3/
LOCATION:Trinity Lutheran Church\, 301 E Stuart\, Fort Collins\, CO\, 80525\, United States
CATEGORIES:General Meeting
ORGANIZER;CN="FCMTA":MAILTO:info@fcmta.org
END:VEVENT
BEGIN:VEVENT
DTSTART;TZID=America/Denver:20250131T190000
DTEND;TZID=America/Denver:20250131T200000
DTSTAMP:20260424T053023
CREATED:20240624T022422Z
LAST-MODIFIED:20240624T023050Z
UID:1205-1738350000-1738353600@fcmta.org
SUMMARY:All-Levels Ensemble Recital
DESCRIPTION:This recital will feature music ensembles.  Students performing ensembles with other students is encouraged.  Memorization NOT required.  Contact your teacher to register.  $5 per entry.
URL:https://fcmta.org/event/all-levels-ensemble-recital/
LOCATION:Trinity Lutheran Church\, 301 E Stuart\, Fort Collins\, CO\, 80525\, United States
CATEGORIES:Recitals,Student Programs
ORGANIZER;CN="Jesse Pierson":MAILTO:jessepierson89@gmail.com
END:VEVENT
END:VCALENDAR