BEGIN:VCALENDAR
VERSION:2.0
PRODID:-//Fort Collins Music Teachers Association - ECPv6.15.20//NONSGML v1.0//EN
CALSCALE:GREGORIAN
METHOD:PUBLISH
X-WR-CALNAME:Fort Collins Music Teachers Association
X-ORIGINAL-URL:https://fcmta.org
X-WR-CALDESC:Events for Fort Collins Music Teachers Association
REFRESH-INTERVAL;VALUE=DURATION:PT1H
X-Robots-Tag:noindex
X-PUBLISHED-TTL:PT1H
BEGIN:VTIMEZONE
TZID:America/Denver
BEGIN:DAYLIGHT
TZOFFSETFROM:-0700
TZOFFSETTO:-0600
TZNAME:MDT
DTSTART:20220313T090000
END:DAYLIGHT
BEGIN:STANDARD
TZOFFSETFROM:-0600
TZOFFSETTO:-0700
TZNAME:MST
DTSTART:20221106T080000
END:STANDARD
BEGIN:DAYLIGHT
TZOFFSETFROM:-0700
TZOFFSETTO:-0600
TZNAME:MDT
DTSTART:20230312T090000
END:DAYLIGHT
BEGIN:STANDARD
TZOFFSETFROM:-0600
TZOFFSETTO:-0700
TZNAME:MST
DTSTART:20231105T080000
END:STANDARD
BEGIN:DAYLIGHT
TZOFFSETFROM:-0700
TZOFFSETTO:-0600
TZNAME:MDT
DTSTART:20240310T090000
END:DAYLIGHT
BEGIN:STANDARD
TZOFFSETFROM:-0600
TZOFFSETTO:-0700
TZNAME:MST
DTSTART:20241103T080000
END:STANDARD
END:VTIMEZONE
BEGIN:VEVENT
DTSTART;TZID=America/Denver:20231103T190000
DTEND;TZID=America/Denver:20231103T210000
DTSTAMP:20260425T103358
CREATED:20230808T171308Z
LAST-MODIFIED:20230903T015649Z
UID:786-1699038000-1699045200@fcmta.org
SUMMARY:Adult Fall Recital
DESCRIPTION:At the home of Jim and Lori Quillen\, 3633 Rocky Stream Drive\, 80528.
URL:https://fcmta.org/event/adult-fall-recital/
LOCATION:3633 Rocky Stream Drive\, 80528.
CATEGORIES:Recitals
ORGANIZER;CN="Allison Pietras":MAILTO:allisonhudak@hotmail.com
END:VEVENT
END:VCALENDAR